BEGIN:VCALENDAR
PRODID:NingEventWidget-v1
VERSION:2.0
METHOD:PUBLISH
BEGIN:VTIMEZONE
TZID:Europe/London
X-LIC-LOCATION:Europe/London
BEGIN:DAYLIGHT
TZOFFSETFROM:+0000
TZOFFSETTO:+0100
TZNAME:BST
DTSTART:19700329T010000
RRULE:FREQ=YEARLY;BYMONTH=3;BYDAY=-1SU
END:DAYLIGHT
BEGIN:STANDARD
TZOFFSETFROM:+0100
TZOFFSETTO:+0000
TZNAME:GMT
DTSTART:19701025T020000
RRULE:FREQ=YEARLY;BYMONTH=10;BYDAY=-1SU
END:STANDARD
END:VTIMEZONE
BEGIN:VEVENT
UID:6278630:Event:71350
DTSTAMP:20260422T075345Z
SUMMARY:Junior Cricketers Wanted (and seniors too!)
DESCRIPTION:Alexandra Park Cricket Club are looking for new players to
  join their growing colts cricket section. We will be running sides at
  U11, U13 and U15 level in 2014 but anyone from 5 to 15 are welcome to
  come along for their first taste of cricket.\nFull coaching and equip
 ment will be provided and the emphasis will be on fun and participatio
 n. We will be trying to keep costs as low as possible. For winter prac
 tise the cost will be £5 a time or £40 for the entire 12 week course
 .\nIndoor practise will be held at Heartlands School next to Ally Pala
 ce station and will run every Sunday from 26th Jan till April other th
 an Easter.\nWe're also more than happy to hear from any seniors who wa
 nt to play cricket locally!\nDrop me a line at alistair@alexandraparkc
 ricketclub.com\nAPColtsFlyer2014\n\nFor more information visit https:/
 /bowesandbounds.org/events/junior-cricketers-wanted-and-seniors-too
DTSTART;TZID=Europe/London:20140126T100000
DTEND;TZID=Europe/London:20140126T110000
CATEGORIES:youth, sport
LOCATION:Alexandra Park
WEBSITE:http://alexandraparkcricketclub.com/
URL:http://alexandraparkcricketclub.com/
CONTACT:07980 898 121
ORGANIZER;CN="Alistair Wilson":https://bowesandbounds.org/profile/Alis
 tairWilson
ATTACH;FMTTYPE="image/jpeg":http://storage.ning.com/topology/rest/1.0/
 file/get/2287248400?profile=original
ATTENDEE;ROLE=REQ-PARTICIPANT;PARTSTAT=ACCEPTED;RSVP=TRUE;CN="Alistair
  Wilson":https://bowesandbounds.org/profile/AlistairWilson
END:VEVENT
END:VCALENDAR
