BEGIN:VCALENDAR
PRODID:NingEventWidget-v1
VERSION:2.0
METHOD:PUBLISH
BEGIN:VTIMEZONE
TZID:Europe/London
X-LIC-LOCATION:Europe/London
BEGIN:DAYLIGHT
TZOFFSETFROM:+0000
TZOFFSETTO:+0100
TZNAME:BST
DTSTART:19700329T010000
RRULE:FREQ=YEARLY;BYMONTH=3;BYDAY=-1SU
END:DAYLIGHT
BEGIN:STANDARD
TZOFFSETFROM:+0100
TZOFFSETTO:+0000
TZNAME:GMT
DTSTART:19701025T020000
RRULE:FREQ=YEARLY;BYMONTH=10;BYDAY=-1SU
END:STANDARD
END:VTIMEZONE
BEGIN:VEVENT
UID:6278630:Event:123374
DTSTAMP:20260423T173446Z
SUMMARY:Junior Hockey sessions at Ashmole Academy
DESCRIPTION:North London Hockey club are pleased to announce the launc
 h of Junior Hockey sessions for girls and boys between 7 - 16 years ol
 d. Running for 5 weeks from Saturday 10th June, this is a great introd
 uction to hockey for those who might have played at school or for thos
 e who've never held a hockey stick before.Â Key information:Â Every Sa
 turday from Saturday 10th June (join at any time) until Saturday 8th J
 ulyÂ 09:00 - 10:15AMÂ Ashmole Academy, near Southgate Tube stationÂ Fi
 rst Session free!Â We recommend you wear shin pads and a gum guard, st
 icks can be borrowed if you don't already have one. Everyone welcome!Â
  \n\nFor more information visit https://bowesandbounds.org/events/juni
 or-hockey-sessions-at-ashmole-academy
DTSTART;TZID=Europe/London:20170610T090000
DTEND;TZID=Europe/London:20170610T101500
CATEGORIES:sports, hockey
LOCATION:Ashmole Academy
WEBSITE:http://hendonandmillhillhockey.org/junior-hockey/
URL:http://hendonandmillhillhockey.org/junior-hockey/
CONTACT:
ORGANIZER;CN="Colette Munnelly":https://bowesandbounds.org/profile/Col
 etteMunnelly646
ATTACH;FMTTYPE="image/jpeg":http://storage.ning.com/topology/rest/1.0/
 file/get/2287321174?profile=original
ATTENDEE;ROLE=REQ-PARTICIPANT;PARTSTAT=ACCEPTED;RSVP=TRUE;CN="Colette 
 Munnelly":https://bowesandbounds.org/profile/ColetteMunnelly646
END:VEVENT
END:VCALENDAR
