BEGIN:VCALENDAR
PRODID:NingEventWidget-v1
VERSION:2.0
METHOD:PUBLISH
BEGIN:VTIMEZONE
TZID:Europe/London
X-LIC-LOCATION:Europe/London
BEGIN:DAYLIGHT
TZOFFSETFROM:+0000
TZOFFSETTO:+0100
TZNAME:BST
DTSTART:19700329T010000
RRULE:FREQ=YEARLY;BYMONTH=3;BYDAY=-1SU
END:DAYLIGHT
BEGIN:STANDARD
TZOFFSETFROM:+0100
TZOFFSETTO:+0000
TZNAME:GMT
DTSTART:19701025T020000
RRULE:FREQ=YEARLY;BYMONTH=10;BYDAY=-1SU
END:STANDARD
END:VTIMEZONE
BEGIN:VEVENT
UID:6278630:Event:93000
DTSTAMP:20260419T133534Z
SUMMARY:Just Married: 150 Years of Enfield Weddings
DESCRIPTION:Enfield Museum presents a FREE exhibition celebrating the 
 wedding traditions of the people of Enfield.\nWeddings are dramatic an
 d life changing events. Though universal, wedding traditions and custo
 ms\ndiffer significantly across cultures, religions, and social class.
  For many, the occasion provides a\nunique opportunity to express and 
 celebrate their own identities, values and beliefs. As society\nchange
 s, so do our weddings.\nThis year, Enfield Museum is holding an exhibi
 tion to celebrate the weddings of the people of\nEnfield - from the tr
 aditional to the not so traditional. This exhibition will explore how 
 society has\nchanged over time through the changes in wedding practice
 s. It will also highlight interesting and\nimportant weddings that too
 k place within the borough.\nFor details please visit enfield.gov.uk/m
 useum\n\n\nFor more information visit https://bowesandbounds.org/event
 s/just-married-150-years-of-enfield-weddings
DTSTART;TZID=Europe/London:20150408T180000
DTEND;TZID=Europe/London:20160110T190000
CATEGORIES:exhibition
LOCATION:Enfield Town
WEBSITE:http://enfield.gov.uk/museum
URL:http://enfield.gov.uk/museum
CONTACT:020 8379 8354
ORGANIZER;CN="Enfield Museum":https://bowesandbounds.org/profile/Enfie
 ldMuseumService
ATTACH;FMTTYPE="image/jpeg":http://storage.ning.com/topology/rest/1.0/
 file/get/2287283894?profile=original
ATTENDEE;ROLE=REQ-PARTICIPANT;PARTSTAT=ACCEPTED;RSVP=TRUE;CN="Enfield 
 Museum":https://bowesandbounds.org/profile/EnfieldMuseumService
END:VEVENT
END:VCALENDAR
