BEGIN:VCALENDAR
PRODID:NingEventWidget-v1
VERSION:2.0
METHOD:PUBLISH
BEGIN:VTIMEZONE
TZID:Europe/London
X-LIC-LOCATION:Europe/London
BEGIN:DAYLIGHT
TZOFFSETFROM:+0000
TZOFFSETTO:+0100
TZNAME:BST
DTSTART:19700329T010000
RRULE:FREQ=YEARLY;BYMONTH=3;BYDAY=-1SU
END:DAYLIGHT
BEGIN:STANDARD
TZOFFSETFROM:+0100
TZOFFSETTO:+0000
TZNAME:GMT
DTSTART:19701025T020000
RRULE:FREQ=YEARLY;BYMONTH=10;BYDAY=-1SU
END:STANDARD
END:VTIMEZONE
BEGIN:VEVENT
UID:6278630:Event:140319
DTSTAMP:20260419T144101Z
SUMMARY:Justo the Clown
DESCRIPTION:Justo the Clown brings his silly show to Collage Kids. The
 re's lots of chances for you to help out Justo, never failing to raise
  smiles as he tricks, dips and weaves his way throughout the crowd. Wa
 tch his show stopping trciks as he juggles, tumbles, unicycles and may
 be even balances on a mum, dad or even you! An ideal humourous morning
  for all the family to enjoy\n\nFor more information visit https://bow
 esandbounds.org/events/justo-the-clown
DTSTART;TZID=Europe/London:20200229T113000
DTEND;TZID=Europe/London:20200229T130000
CATEGORIES:kids, show
LOCATION:KaramelN22
WEBSITE:https://www.musicglue.com/karamel/events/2020-02-29-justo-the-
 clown-karamel
URL:https://www.musicglue.com/karamel/events/2020-02-29-justo-the-clow
 n-karamel
CONTACT:
ORGANIZER;CN="Collage Arts":https://bowesandbounds.org/profile/Collage
 Arts105
ATTACH;FMTTYPE="image/jpeg":https://storage.ning.com/topology/rest/1.0
 /file/get/3859613757?profile=original
ATTENDEE;ROLE=REQ-PARTICIPANT;PARTSTAT=ACCEPTED;RSVP=TRUE;CN="Collage 
 Arts":https://bowesandbounds.org/profile/CollageArts105
END:VEVENT
END:VCALENDAR
