BEGIN:VCALENDAR
PRODID:NingEventWidget-v1
VERSION:2.0
METHOD:PUBLISH
BEGIN:VTIMEZONE
TZID:Europe/London
X-LIC-LOCATION:Europe/London
BEGIN:DAYLIGHT
TZOFFSETFROM:+0000
TZOFFSETTO:+0100
TZNAME:BST
DTSTART:19700329T010000
RRULE:FREQ=YEARLY;BYMONTH=3;BYDAY=-1SU
END:DAYLIGHT
BEGIN:STANDARD
TZOFFSETFROM:+0100
TZOFFSETTO:+0000
TZNAME:GMT
DTSTART:19701025T020000
RRULE:FREQ=YEARLY;BYMONTH=10;BYDAY=-1SU
END:STANDARD
END:VTIMEZONE
BEGIN:VEVENT
UID:6278630:Event:243410
DTSTAMP:20260419T135341Z
SUMMARY:Jute Weaving Shoulder Bag (2-part) Tuesday 21st &amp; Tuesday 
 28th February, 7-9pm £60.00
DESCRIPTION:Come and join us for this handmade jute weaving experience
  with local artist Shirin Kambarova!\nJute bags are a long lasting, du
 rable, useful item to have around with many uses. They are foldable, m
 aking them very portable and beautiful to wear.\nMade with 100% natura
 l jute, they won't tear like paper or plastic bags and are eco friendl
 y and sustainable.\nThis is a two part workshop in a small classroom s
 etting.\nDay One:\nYou will be learning about the jute and how to hand
 le it.\nLearning and producing the pattern and to finish all 5 parts o
 f bag.\nDay Two:\nYou will be given instruction on how to assemble the
  bag with all its parts and make the handles.\nIf you do not finish yo
 ur bag by the end of the class not to worry we will send you home with
  everything you need to complete your fabulous bag very easily!\nAll m
 aterials will be provided and full written instructions each week will
  be given out to each participant to take home. Refreshments and nibbl
 es will be provided along with a warm creative environment so just bri
 ng yourself.\nDATE - Thursday 21st & Thursday 28th February, 7-9pm\nDU
 RATION - 4 hours total tuition\nCOST - £60 total\nLOCATION: Stitch Cr
 afts and Classes! 2 Hazelwood Lane, Palmers Green N13 5EX\nPlease ensu
 re you have read fully our terms and conditions.\nThe Stitch N13 Team 
 x\n\nFor more information visit https://bowesandbounds.org/events/jute
 -weaving-shoulder-bag-2-part-tuesday-21st-amp-tuesday-28th
DTSTART;TZID=Europe/London:20230221T190000
DTEND;TZID=Europe/London:20230228T190000
CATEGORIES:crafting, workshop
LOCATION:Stitch! Crafts and Classes
WEBSITE:https://www.stitch.org.uk/shop/Jute-Weaving-Shoulder-Bag-2-par
 t-Tuesday-21st-&amp;-Tuesday-28th-February-7-9pm-p527070692
URL:https://www.stitch.org.uk/shop/Jute-Weaving-Shoulder-Bag-2-part-Tu
 esday-21st-&amp;-Tuesday-28th-February-7-9pm-p527070692
CONTACT:07903 614726
ORGANIZER;CN="Suzanne Kelly":https://bowesandbounds.org/profile/Suzann
 eKelly
ATTACH;FMTTYPE="image/jpeg":https://storage.ning.com/topology/rest/1.0
 /file/get/10960726878?profile=original
ATTENDEE;ROLE=REQ-PARTICIPANT;PARTSTAT=ACCEPTED;RSVP=TRUE;CN="Suzanne 
 Kelly":https://bowesandbounds.org/profile/SuzanneKelly
END:VEVENT
END:VCALENDAR
