BEGIN:VCALENDAR
PRODID:NingEventWidget-v1
VERSION:2.0
METHOD:PUBLISH
BEGIN:VTIMEZONE
TZID:Europe/London
X-LIC-LOCATION:Europe/London
BEGIN:DAYLIGHT
TZOFFSETFROM:+0000
TZOFFSETTO:+0100
TZNAME:BST
DTSTART:19700329T010000
RRULE:FREQ=YEARLY;BYMONTH=3;BYDAY=-1SU
END:DAYLIGHT
BEGIN:STANDARD
TZOFFSETFROM:+0100
TZOFFSETTO:+0000
TZNAME:GMT
DTSTART:19701025T020000
RRULE:FREQ=YEARLY;BYMONTH=10;BYDAY=-1SU
END:STANDARD
END:VTIMEZONE
BEGIN:VEVENT
UID:6278630:Event:247100
DTSTAMP:20260419T163046Z
SUMMARY:Kaiyo 3 with Brandon Allen
DESCRIPTION:Doors open at 7pm, and music starts at 8pm.\nLine-up: Bran
 don Allen (sax), Simon Purcell (piano), Oli Hayhurst (bass), Mark Tayl
 or (drums).\nThis month, KAIYO expands into a quartet featuring Austra
 lian saxophonist, Brandon Allen.\nKAIYO presents the unique talents o
 f each player in a collective and interactive format, communicating mu
 sical adventure, playfulness, lyricism, and fun.\n'KAIYO’s music is 
 welcoming and surprising, respecting the jazz tradition as well as pre
 senting original material.'\n'KAIYO’s approach to improvising is col
 lective, spontaneous and ensures that each performance is fresh and fu
 n.'\nBrandon Allen relocated to London in 2000. Since arriving in the 
 UK, he has worked with many established artists from various genres, i
 n particular Jazz. Brandon is also the saxophonist with the Kyle Eastw
 ood Band, touring internationally. He has performed with Eric Clapton,
  Paloma Faith, Kyle Eastwood, Gary Husband, Stefano Di Battista, Adam 
 Nussbaum and Tony Lakatos.\nBRANDON ALLEN - “a saxophone heavyweight
 , at the height of his powers” BLUES AND SOUL MAGAZINE\n'Brandon All
 en is arguably the most exciting tenor player in Britain today. His ph
 rasing is unashamedly emotional, soaked in the blues tradition.' Jazzw
 ise\nKaramel - 4 Coburg Road, London N22 6UJ The Karamel vegan kitchen
  will be serving food until 9.30pm. Email karamel8775@gmail.com to b
 ook a table.\nTickets: £5 in advance from www.musicglue.com/karamel
 or £10 On The Door.\nDoors open at 7pm, and music starts at 8pm.\n\n
 For more information visit https://bowesandbounds.org/events/kaiyo-3-w
 ith-brandon-allen
DTSTART;TZID=Europe/London:20240516T200000
DTEND;TZID=Europe/London:20240516T220000
CATEGORIES:music, jazz, veganvenue
LOCATION:Karamel, 4 Coburg Road N22 6UJ
WEBSITE:https://www.musicglue.com/karamel/
URL:https://www.musicglue.com/karamel/
CONTACT:
ORGANIZER;CN="Collage Artspaces":https://bowesandbounds.org/profile/Co
 llage_Arts
ATTACH;FMTTYPE="image/jpeg":https://storage.ning.com/topology/rest/1.0
 /file/get/12490692075?profile=original
ATTENDEE;ROLE=REQ-PARTICIPANT;PARTSTAT=ACCEPTED;RSVP=TRUE;CN="Collage 
 Artspaces":https://bowesandbounds.org/profile/Collage_Arts
END:VEVENT
END:VCALENDAR
