BEGIN:VCALENDAR
PRODID:NingEventWidget-v1
VERSION:2.0
METHOD:PUBLISH
BEGIN:VTIMEZONE
TZID:Europe/London
X-LIC-LOCATION:Europe/London
BEGIN:DAYLIGHT
TZOFFSETFROM:+0000
TZOFFSETTO:+0100
TZNAME:BST
DTSTART:19700329T010000
RRULE:FREQ=YEARLY;BYMONTH=3;BYDAY=-1SU
END:DAYLIGHT
BEGIN:STANDARD
TZOFFSETFROM:+0100
TZOFFSETTO:+0000
TZNAME:GMT
DTSTART:19701025T020000
RRULE:FREQ=YEARLY;BYMONTH=10;BYDAY=-1SU
END:STANDARD
END:VTIMEZONE
BEGIN:VEVENT
UID:6278630:Event:247052
DTSTAMP:20260419T190015Z
SUMMARY:Kaiyo 3 with Helena Kay
DESCRIPTION:Doors open 7pm, music starts at 8pm.\nLine-up: Helena Kay 
 (sax) Tim Sampson (drums) Simon Purcell (piano) Amy Baldwin (bass)\nTh
 is month, Amy and Simon (www.kaiyojazz.com) are joined by special gues
 t Helena Kay, an award-winning tenor saxophonist who is quickly becom
 ing renowned as one of the UK’s most creative and virtuosic jazz art
 ists.\nHeralded as, ’A formidable saxophonist and composer… Quite
  simply, outstanding!’ Nick Lea, Jazz Views. This promises to be a 
 special night.\nAlso, joined by Tim Sampson who has recently returned 
 to London after a busy few years touring and recording with producer R
 ick Rubin. Firmly back on the London scene, he has been playing with A
 nita Wardell, Jay Phelps, Phil Robson and more.\nKaramel - 4 Coburg Ro
 ad, London N22 6UJ The Karamel vegan kitchen will be serving food unti
 l 9.30pm. Email karamel8775@gmail.com to book a table.\n£5 (advance
 ), £10 OTD\nDoors open 7pm, music starts at 8pm.\n\nFor more informat
 ion visit https://bowesandbounds.org/events/kaiyo-3-with-helena-kay
DTSTART;TZID=Europe/London:20240418T200000
DTEND;TZID=Europe/London:20240418T220000
CATEGORIES:jazz, music, live
LOCATION:karamel, 4 Coburg Road, N22 6UJ
WEBSITE:http://musicglue.com/karamel/
URL:http://musicglue.com/karamel/
CONTACT:
ORGANIZER;CN="Collage Artspaces":https://bowesandbounds.org/profile/Co
 llage_Arts
ATTACH;FMTTYPE="image/jpeg":https://storage.ning.com/topology/rest/1.0
 /file/get/12425361474?profile=original
ATTENDEE;ROLE=REQ-PARTICIPANT;PARTSTAT=ACCEPTED;RSVP=TRUE;CN="Collage 
 Artspaces":https://bowesandbounds.org/profile/Collage_Arts
END:VEVENT
END:VCALENDAR
