BEGIN:VCALENDAR
PRODID:NingEventWidget-v1
VERSION:2.0
METHOD:PUBLISH
BEGIN:VTIMEZONE
TZID:Europe/London
X-LIC-LOCATION:Europe/London
BEGIN:DAYLIGHT
TZOFFSETFROM:+0000
TZOFFSETTO:+0100
TZNAME:BST
DTSTART:19700329T010000
RRULE:FREQ=YEARLY;BYMONTH=3;BYDAY=-1SU
END:DAYLIGHT
BEGIN:STANDARD
TZOFFSETFROM:+0100
TZOFFSETTO:+0000
TZNAME:GMT
DTSTART:19701025T020000
RRULE:FREQ=YEARLY;BYMONTH=10;BYDAY=-1SU
END:STANDARD
END:VTIMEZONE
BEGIN:VEVENT
UID:6278630:Event:250603
DTSTAMP:20260420T043305Z
SUMMARY:Kaiyo 3 with Iain Ballamy
DESCRIPTION:\nThis month, Kaiyo is joined by legendary ECM recording a
 rtist Iain Ballamy!\nHe has been described variously as urbane, origin
 al, melodic, freethinking and uncompromising. Listed in the BBC’s pu
 blication ‘100 Jazz Greats ’between Count Basie and Chet Baker his
  work is contemporary with both strong jazz and classical references.\
 nOver 3 decades spent transcending musical genres and stereotypes and 
 gradually forging strong and ongoing relationships with musicians arou
 nd the globe, Ballamy has worked with many cutting-edge figures of tod
 ay’s contemporary jazz scene. Not to be missed.\n“Intensly melodic
 , eventful and full of surprises... The beauty of tone that Iain Balla
 my gets is certainly one of the joys of the current scene”— Andy H
 amilton, Jazz on CD\nBand Line Up: Iain Ballamy - Sax Mark Taylor - Dr
 ums Simon Purcell - Piano Amy Baldwin- Bass\nKaramel - 4 Coburg Road, 
 London N22 6UJ. The Karamel vegan kitchen will be serving food until 9
 .30pm. Email karamel8775@gmail.com to book a table for groups of 3+.\n
 Doors open 7pm, music starts at 8pm.\n£7.50 Early Bird £10 General A
 dmission £5 Student\n\nFor more information visit https://bowesandbou
 nds.org/events/kaiyo-3-with-iain-ballamy
DTSTART;TZID=Europe/London:20250515T190000
DTEND;TZID=Europe/London:20250515T220000
CATEGORIES:jazz, veganvenue, veganfood, livemusic
LOCATION:karamel, 4 Coburg Road, Wood Green, London N22 6UJ
WEBSITE:https://www.musicglue.com/karamel/events/2025-05-15-kaiyo-3-wi
 th-iain-ballamy-karamel
URL:https://www.musicglue.com/karamel/events/2025-05-15-kaiyo-3-with-i
 ain-ballamy-karamel
CONTACT:
ORGANIZER;CN="Collage Artspaces":https://bowesandbounds.org/profile/Co
 llage_Arts
ATTACH;FMTTYPE="image/jpeg":https://storage.ning.com/topology/rest/1.0
 /file/get/13536229080?profile=original
ATTENDEE;ROLE=REQ-PARTICIPANT;PARTSTAT=ACCEPTED;RSVP=TRUE;CN="Collage 
 Artspaces":https://bowesandbounds.org/profile/Collage_Arts
END:VEVENT
END:VCALENDAR
