BEGIN:VCALENDAR
PRODID:NingEventWidget-v1
VERSION:2.0
METHOD:PUBLISH
BEGIN:VTIMEZONE
TZID:Europe/London
X-LIC-LOCATION:Europe/London
BEGIN:DAYLIGHT
TZOFFSETFROM:+0000
TZOFFSETTO:+0100
TZNAME:BST
DTSTART:19700329T010000
RRULE:FREQ=YEARLY;BYMONTH=3;BYDAY=-1SU
END:DAYLIGHT
BEGIN:STANDARD
TZOFFSETFROM:+0100
TZOFFSETTO:+0000
TZNAME:GMT
DTSTART:19701025T020000
RRULE:FREQ=YEARLY;BYMONTH=10;BYDAY=-1SU
END:STANDARD
END:VTIMEZONE
BEGIN:VEVENT
UID:6278630:Event:252034
DTSTAMP:20260424T173025Z
SUMMARY:Kaiyo 3 with Karen Sharp
DESCRIPTION:\nDoors open 7pm, music from 8pm.\n\nLine-up: Karen Sharp 
 (sax), Simon Purcell (piano), Amy Baldwin (bass), Mark Taylor (drums).
 \n\nKAIYO perform both as a duo (Simon Purcell & Amy Baldwin) and as a
  trio. Tonight they are expanding into a quartet with Corrie Dick on d
 rums and featuring saxophonist Karen Sharp, admired saxophonist and co
 mposer. https://www.karensharp.co.uk\nSince 2000, multi-award winning 
 Karen Sharp appeared with Humphrey Lyttelton before leading her own ba
 nds and appearing as a soloist with an high-profile musicians, includi
 ng US stars Scott Hamilton, Warren Vache and Bucky Pizzarelli as well 
 as many of the finest UK musicians. More recently she has appeared wit
 h the Guy Barker Big Band at the BBC Proms, the Stan Tracey Big Band a
 nd the Ronnie Scott's Jazz Orchestra. With 6 albums to her name as lea
 der she has won the British Jazz Awards for best tenor saxophonist on 
 a number of occasions and has been a nominee in the Rising Star catego
 ry of the US Downbeat Critics Poll for baritone sax in 2018 and 2019.\
 n\n£10 Earlybird; £13 General admission; £5 Student.\n\nFor more in
 formation visit https://bowesandbounds.org/events/kaiyo-3-with-karen-s
 harp-1
DTSTART;TZID=Europe/London:20251016T190000
DTEND;TZID=Europe/London:20251016T220000
CATEGORIES:jazz, veganvenue, veganfood, livemusic
LOCATION:karamel, 4 Coburg Road, Wood Green, London N22 6UJ
WEBSITE:http://https://www.musicglue.com/karamel/events/2025-10-16-kai
 yo-3-with-karen-sharp-karamel
URL:http://https://www.musicglue.com/karamel/events/2025-10-16-kaiyo-3
 -with-karen-sharp-karamel
CONTACT:
ORGANIZER;CN="Collage Artspaces":https://bowesandbounds.org/profile/Co
 llage_Arts
ATTACH;FMTTYPE="image/jpeg":https://storage.ning.com/topology/rest/1.0
 /file/get/13727702277?profile=original
ATTENDEE;ROLE=REQ-PARTICIPANT;PARTSTAT=ACCEPTED;RSVP=TRUE;CN="Collage 
 Artspaces":https://bowesandbounds.org/profile/Collage_Arts
END:VEVENT
END:VCALENDAR
