BEGIN:VCALENDAR
PRODID:NingEventWidget-v1
VERSION:2.0
METHOD:PUBLISH
BEGIN:VTIMEZONE
TZID:Europe/London
X-LIC-LOCATION:Europe/London
BEGIN:DAYLIGHT
TZOFFSETFROM:+0000
TZOFFSETTO:+0100
TZNAME:BST
DTSTART:19700329T010000
RRULE:FREQ=YEARLY;BYMONTH=3;BYDAY=-1SU
END:DAYLIGHT
BEGIN:STANDARD
TZOFFSETFROM:+0100
TZOFFSETTO:+0000
TZNAME:GMT
DTSTART:19701025T020000
RRULE:FREQ=YEARLY;BYMONTH=10;BYDAY=-1SU
END:STANDARD
END:VTIMEZONE
BEGIN:VEVENT
UID:6278630:Event:126092
DTSTAMP:20260424T161207Z
SUMMARY:Karamel Kids: Imagination Station's Christmas Puppet Show
DESCRIPTION:Join Jingle the elf and friends as they try to rescue the 
 Christmas presents!\nThe show is jam packed with festive friends, the 
 Christmas fairy, a cheeky snowman, Rudolf the red nose reindeer, Fathe
 r Christmas and the odd dinosaur!\n \nFull of adventure, music and so
 ngs to join in with the Imagination Station Christmas puppet show a pe
 rfect start to this sessions celebrations.\n\nFree entry with donation
 s to the tip jar\n\n\nFor more information visit https://bowesandbound
 s.org/events/karamel-kids-imagination-station-s-christmas-puppet-show
DTSTART;TZID=Europe/London:20171209T113000
DTEND;TZID=Europe/London:20171209T123000
CATEGORIES:"'karamel", "kids'", "'kids'", "'karamel'", "'family'", "'f
 ree'", "'free", family, "event'", kids, "'christmas'", "'christmas", "
 'kids", "christmas'", "'wood", "green'"
LOCATION:Karamel
WEBSITE:http://www.karamel.london
URL:http://www.karamel.london
CONTACT:0208 829 8989
ORGANIZER;CN="Events at Karamel":https://bowesandbounds.org/profile/Ph
 ilSherman
ATTACH;FMTTYPE="image/jpeg":http://storage.ning.com/topology/rest/1.0/
 file/get/2287320435?profile=original
ATTENDEE;ROLE=REQ-PARTICIPANT;PARTSTAT=ACCEPTED;RSVP=TRUE;CN="Events a
 t Karamel":https://bowesandbounds.org/profile/PhilSherman
END:VEVENT
END:VCALENDAR
