BEGIN:VCALENDAR
PRODID:NingEventWidget-v1
VERSION:2.0
METHOD:PUBLISH
BEGIN:VTIMEZONE
TZID:Europe/London
X-LIC-LOCATION:Europe/London
BEGIN:DAYLIGHT
TZOFFSETFROM:+0000
TZOFFSETTO:+0100
TZNAME:BST
DTSTART:19700329T010000
RRULE:FREQ=YEARLY;BYMONTH=3;BYDAY=-1SU
END:DAYLIGHT
BEGIN:STANDARD
TZOFFSETFROM:+0100
TZOFFSETTO:+0000
TZNAME:GMT
DTSTART:19701025T020000
RRULE:FREQ=YEARLY;BYMONTH=10;BYDAY=-1SU
END:STANDARD
END:VTIMEZONE
BEGIN:VEVENT
UID:6278630:Event:125962
DTSTAMP:20260419T130653Z
SUMMARY:Karamel Kids: Little Red Riding Hood and Friends
DESCRIPTION:Little Red Riding Hood’s friend arrives to tell us the s
 tory but has a problem, there are no pages in the book! He tries to te
 ll the story and we meet Red Riding Hood’s mum, dad and grandma but 
 he keeps getting the story wrong. So Cinderella arrives to help, danci
 ng a conga with her Jack’s Baked Beans Band and suggests auditions t
 o find the Wolf to end the story.\nThere is lots of participation in t
 his theatre show, with the audience becoming Cinderella’s backing ba
 nd, auditioning to be wolves, helping Red Riding Hood’s dad cut down
  trees and dancing a conga.\n\nFor more information visit https://bowe
 sandbounds.org/events/karamel-kids-little-red-riding-hood-and-friends
DTSTART;TZID=Europe/London:20171118T190000
DTEND;TZID=Europe/London:20171118T230000
CATEGORIES:"'kids'", "'karamel", "kids'", "'free'", "'free", kids, "ev
 ent'", "'family'", "'family", family, "'karamel'"
LOCATION:Karamel
WEBSITE:http://www.karamel.london
URL:http://www.karamel.london
CONTACT:0208 829 8989
ORGANIZER:Karamel
ATTACH;FMTTYPE="image/jpeg":http://storage.ning.com/topology/rest/1.0/
 file/get/2287320971?profile=original
ATTENDEE;ROLE=REQ-PARTICIPANT;PARTSTAT=ACCEPTED;RSVP=TRUE;CN="Events a
 t Karamel":https://bowesandbounds.org/profile/PhilSherman
END:VEVENT
END:VCALENDAR
