BEGIN:VCALENDAR
PRODID:NingEventWidget-v1
VERSION:2.0
METHOD:PUBLISH
BEGIN:VTIMEZONE
TZID:Europe/London
X-LIC-LOCATION:Europe/London
BEGIN:DAYLIGHT
TZOFFSETFROM:+0000
TZOFFSETTO:+0100
TZNAME:BST
DTSTART:19700329T010000
RRULE:FREQ=YEARLY;BYMONTH=3;BYDAY=-1SU
END:DAYLIGHT
BEGIN:STANDARD
TZOFFSETFROM:+0100
TZOFFSETTO:+0000
TZNAME:GMT
DTSTART:19701025T020000
RRULE:FREQ=YEARLY;BYMONTH=10;BYDAY=-1SU
END:STANDARD
END:VTIMEZONE
BEGIN:VEVENT
UID:6278630:Event:125966
DTSTAMP:20260424T185101Z
SUMMARY:Karamel Kids: Mrs H
DESCRIPTION:Mrs H joins us with her intoxicating brand of family music
  to Karamel. Packed with lots of songs you can sing along and dance to
  – all generations can join along with the fun! Come along and shake
  some shakers, dance down the aisles and sing as loud as you can.\nPar
 t of Love Wood Green Festival! Featuring the 21st annual N22 Open Stud
 ios, studios, stalls, art exhibitions – Now part of four days of liv
 e music, dance workshops, childrens’ theatre and more… Wednesday 2
 0 September to Sunday 24 September 2017.\n\nFor more information visit
  https://bowesandbounds.org/events/karamel-kids-mrs-h
DTSTART;TZID=Europe/London:20170923T120000
DTEND;TZID=Europe/London:20170923T130000
CATEGORIES:"'kids'", "'karamel", "kids'", "'free'", "'free", kids, "ev
 ent'", "'family'", "'family", family, "'karamel'"
LOCATION:Karamel
WEBSITE:http://www.karamel.london
URL:http://www.karamel.london
CONTACT:0208 829 8989
ORGANIZER:Karamel
ATTACH;FMTTYPE="image/jpeg":http://storage.ning.com/topology/rest/1.0/
 file/get/2287320723?profile=original
ATTENDEE;ROLE=REQ-PARTICIPANT;PARTSTAT=ACCEPTED;RSVP=TRUE;CN="Events a
 t Karamel":https://bowesandbounds.org/profile/PhilSherman
END:VEVENT
END:VCALENDAR
