BEGIN:VCALENDAR
PRODID:NingEventWidget-v1
VERSION:2.0
METHOD:PUBLISH
BEGIN:VTIMEZONE
TZID:Europe/London
X-LIC-LOCATION:Europe/London
BEGIN:DAYLIGHT
TZOFFSETFROM:+0000
TZOFFSETTO:+0100
TZNAME:BST
DTSTART:19700329T010000
RRULE:FREQ=YEARLY;BYMONTH=3;BYDAY=-1SU
END:DAYLIGHT
BEGIN:STANDARD
TZOFFSETFROM:+0100
TZOFFSETTO:+0000
TZNAME:GMT
DTSTART:19701025T020000
RRULE:FREQ=YEARLY;BYMONTH=10;BYDAY=-1SU
END:STANDARD
END:VTIMEZONE
BEGIN:VEVENT
UID:6278630:Event:118767
DTSTAMP:20260425T000315Z
SUMMARY:Karamel Kids: Poetry for Kids with Paul Lyalls
DESCRIPTION:Paul Lyalls will turn your ideas about poetry upside down 
 with his funny and fast moving poetry. Get ready for interactive and e
 ngaging poems packed into a very silly morning. Ideal for children and
  their parents, listen to silly rhymes and maybe even help make your o
 wn poem to!\n\nFor more information visit https://bowesandbounds.org/e
 vents/karamel-kids-poetry-for-kids-with-paul-lyalls
DTSTART;TZID=Europe/London:20170225T113000
DTEND;TZID=Europe/London:20170225T123000
CATEGORIES:"'karamel'", "'karamel", "kids'", "'kids'", "'family", day,
  "out'", "'things", for, "'events", "'kids", "events'", "'family'"
LOCATION:Karamel
WEBSITE:http://www.karamel.london
URL:http://www.karamel.london
CONTACT:0208 829 8989
ORGANIZER:Karamel Kids
ATTACH;FMTTYPE="image/jpeg":http://storage.ning.com/topology/rest/1.0/
 file/get/2287315741?profile=original
ATTENDEE;ROLE=REQ-PARTICIPANT;PARTSTAT=ACCEPTED;RSVP=TRUE;CN="Sureka F
 ernando":https://bowesandbounds.org/profile/SurekaFernando
ATTENDEE;ROLE=REQ-PARTICIPANT;PARTSTAT=ACCEPTED;RSVP=TRUE;CN="Events a
 t Karamel":https://bowesandbounds.org/profile/PhilSherman
END:VEVENT
END:VCALENDAR
