BEGIN:VCALENDAR
PRODID:NingEventWidget-v1
VERSION:2.0
METHOD:PUBLISH
BEGIN:VTIMEZONE
TZID:Europe/London
X-LIC-LOCATION:Europe/London
BEGIN:DAYLIGHT
TZOFFSETFROM:+0000
TZOFFSETTO:+0100
TZNAME:BST
DTSTART:19700329T010000
RRULE:FREQ=YEARLY;BYMONTH=3;BYDAY=-1SU
END:DAYLIGHT
BEGIN:STANDARD
TZOFFSETFROM:+0100
TZOFFSETTO:+0000
TZNAME:GMT
DTSTART:19701025T020000
RRULE:FREQ=YEARLY;BYMONTH=10;BYDAY=-1SU
END:STANDARD
END:VTIMEZONE
BEGIN:VEVENT
UID:6278630:Event:141106
DTSTAMP:20260420T181801Z
SUMMARY:Keeping the folk: Vicki Swan and Jonny Dyer live (ish)
DESCRIPTION:\r\nTONIGHT (NB: starts at 20:15 after NHS clapping).Join 
 us on our Bowes Park Folk Club Facebook page TODAY for some socially d
 istant musical closeness. Our planned guests, Vicki Swan and Jonny Dye
 r have generously recorded a live performance for all of us who were h
 oping to see them this Spring. We have the link, and we'll be posting 
 it at 21.00 on TONIGHT - here on this very page - so we can watch toge
 ther.And there's more - from 20.15 (after clapping the NHS) we'll be l
 ive-streaming some of our favourite floor singers (from the safety of 
 their own floors).\r\n\r\n Just visit this page and click to watch the
  live stream.Please join us in our efforts to Keep the Folk! Take care
  all - love BPFC.\n\nFor more information visit https://bowesandbounds
 .org/events/keeping-the-folk-vicki-swan-and-jonny-dyer-live-ish
DTSTART;TZID=Europe/London:20200402T201500
DTEND;TZID=Europe/London:20200402T211500
CATEGORIES:music
LOCATION:https://www.facebook.com/BowesParkFolkClub/?eid=ARB948PjdX1n1
 -28goXV0DcFaojwv5wku948zuRYgBhIg1DdDJcRYo5bkApSETzIpQ304pVveKlTb2Va
WEBSITE:https://www.facebook.com/BowesParkFolkClub/?eid=ARB948PjdX1n1-
 28goXV0DcFaojwv5wku948zuRYgBhIg1DdDJcRYo5bkApSETzIpQ304pVveKlTb2Va
URL:https://www.facebook.com/BowesParkFolkClub/?eid=ARB948PjdX1n1-28go
 XV0DcFaojwv5wku948zuRYgBhIg1DdDJcRYo5bkApSETzIpQ304pVveKlTb2Va
CONTACT:
ORGANIZER:Administrator
ATTACH;FMTTYPE="image/jpeg":https://storage.ning.com/topology/rest/1.0
 /file/get/4304503830?profile=original
ATTENDEE;ROLE=REQ-PARTICIPANT;PARTSTAT=ACCEPTED;RSVP=TRUE;CN="Richard 
 McKeever":https://bowesandbounds.org/profile/3hwxkqhdde8gc
END:VEVENT
END:VCALENDAR
