BEGIN:VCALENDAR
PRODID:NingEventWidget-v1
VERSION:2.0
METHOD:PUBLISH
BEGIN:VTIMEZONE
TZID:Europe/London
X-LIC-LOCATION:Europe/London
BEGIN:DAYLIGHT
TZOFFSETFROM:+0000
TZOFFSETTO:+0100
TZNAME:BST
DTSTART:19700329T010000
RRULE:FREQ=YEARLY;BYMONTH=3;BYDAY=-1SU
END:DAYLIGHT
BEGIN:STANDARD
TZOFFSETFROM:+0100
TZOFFSETTO:+0000
TZNAME:GMT
DTSTART:19701025T020000
RRULE:FREQ=YEARLY;BYMONTH=10;BYDAY=-1SU
END:STANDARD
END:VTIMEZONE
BEGIN:VEVENT
UID:6278630:Event:67788
DTSTAMP:20260423T082451Z
SUMMARY:Kids Nearly New Sale
DESCRIPTION:Plenty of bargains to be had - books, toys, clothing and e
 quipment for the under-fives. Free entry, so come along and see whats 
 on offer. Organised by 128 Mums Group by, and for, local families.\n\n
 For more information visit https://bowesandbounds.org/events/kids-near
 ly-new-sale
DTSTART;TZID=Europe/London:20131027T140000
DTEND;TZID=Europe/London:20131027T170000
CATEGORIES:nearly-new, sale
LOCATION:128 Myddleton Rd, N22
WEBSITE:
URL:
CONTACT:07941 113 831
ORGANIZER;CN="Shona Rose":https://bowesandbounds.org/profile/ShonaRose
ATTACH;FMTTYPE="image/jpeg":
ATTENDEE;ROLE=REQ-PARTICIPANT;PARTSTAT=ACCEPTED;RSVP=TRUE;CN="Shona Ro
 se":https://bowesandbounds.org/profile/ShonaRose
END:VEVENT
END:VCALENDAR
