BEGIN:VCALENDAR
PRODID:NingEventWidget-v1
VERSION:2.0
METHOD:PUBLISH
BEGIN:VTIMEZONE
TZID:Europe/London
X-LIC-LOCATION:Europe/London
BEGIN:DAYLIGHT
TZOFFSETFROM:+0000
TZOFFSETTO:+0100
TZNAME:BST
DTSTART:19700329T010000
RRULE:FREQ=YEARLY;BYMONTH=3;BYDAY=-1SU
END:DAYLIGHT
BEGIN:STANDARD
TZOFFSETFROM:+0100
TZOFFSETTO:+0000
TZNAME:GMT
DTSTART:19701025T020000
RRULE:FREQ=YEARLY;BYMONTH=10;BYDAY=-1SU
END:STANDARD
END:VTIMEZONE
BEGIN:VEVENT
UID:6278630:Event:62690
DTSTAMP:20260425T165147Z
SUMMARY:Kids Tennis Summer Camp
DESCRIPTION:Our new coach Laura Collins will be running the Summer Ten
 nis Camp from the 29th July, it will be guaranteed fun, and feature co
 aching, exercises, games and an end of week tournament.\nIt runs every
  week day from 9.30 in the morning to 12noon, and you can sign up for 
 a day, a week or all three weeks. £10 per day or £45 per week. Disco
 unts for siblings.\nDownload the leaflet/registration form  Summer Ca
 mp Leaflet   for more information and to contact Laura, to find out 
 more about Laura go to our Tennis Coach page.\n\nFor more information 
 visit https://bowesandbounds.org/events/kids-tennis-summer-camp
DTSTART;TZID=Europe/London:20130729T093000
DTEND;TZID=Europe/London:20130802T120000
CATEGORIES:tennis, camp
LOCATION:Bounds Green Tennis Club
WEBSITE:http://boundsgreenbtc.wordpress.com/home/location-and-contact/
URL:http://boundsgreenbtc.wordpress.com/home/location-and-contact/
CONTACT:020 8889 9850
ORGANIZER;CN="Jane Lees":https://bowesandbounds.org/profile/JaneLees
ATTACH;FMTTYPE="image/jpeg":http://storage.ning.com/topology/rest/1.0/
 file/get/2287252142?profile=original
ATTENDEE;ROLE=REQ-PARTICIPANT;PARTSTAT=ACCEPTED;RSVP=TRUE;CN="Jane Lee
 s":https://bowesandbounds.org/profile/JaneLees
END:VEVENT
END:VCALENDAR
