BEGIN:VCALENDAR
PRODID:NingEventWidget-v1
VERSION:2.0
METHOD:PUBLISH
BEGIN:VTIMEZONE
TZID:Europe/London
X-LIC-LOCATION:Europe/London
BEGIN:DAYLIGHT
TZOFFSETFROM:+0000
TZOFFSETTO:+0100
TZNAME:BST
DTSTART:19700329T010000
RRULE:FREQ=YEARLY;BYMONTH=3;BYDAY=-1SU
END:DAYLIGHT
BEGIN:STANDARD
TZOFFSETFROM:+0100
TZOFFSETTO:+0000
TZNAME:GMT
DTSTART:19701025T020000
RRULE:FREQ=YEARLY;BYMONTH=10;BYDAY=-1SU
END:STANDARD
END:VTIMEZONE
BEGIN:VEVENT
UID:6278630:Event:248379
DTSTAMP:20260420T064613Z
SUMMARY:Lace Cowl Knitting Workshop
DESCRIPTION:Take your knitting to the next level in time for winter. I
 n this class you will learn to make this stylish cowl by knitting in t
 he round using a simple lace pattern and requiring no sewing up. Suit
 able for intermediate knitters who can already use circular needles bu
 t you do not need any experience in knitting lace. \nDate & Time Thu
 rsday 17th September: 7 to 9pm\nDuration: 2 hours\nCost: £48\nTeacher
 : Hilary Morris\nLocation: The Mall, Southgate, North London, N14.\nWh
 at you need to bring: 4.00mm knitting needles and 6mm circular needles
  if you have them. We will provide Dk yarn to use in the class.\nWe lo
 ok forward to seeing you and sharing with you our love of all things c
 raft!\nThe StitchN13 Team x\n\nFor more information visit https://bowe
 sandbounds.org/events/lace-cowl-knitting-workshop
DTSTART;TZID=Europe/London:20241017T190000
DTEND;TZID=Europe/London:20241017T210000
CATEGORIES:knitting, workshop
LOCATION:The Mall, Southgate, N14
WEBSITE:https://www.stitch.org.uk/shop/Lace-Cowl-Knitting-Workshop-Thu
 rsday-17th-October-7-9pm-Southgate-North-London-p684344965
URL:https://www.stitch.org.uk/shop/Lace-Cowl-Knitting-Workshop-Thursda
 y-17th-October-7-9pm-Southgate-North-London-p684344965
CONTACT:07903614726
ORGANIZER;CN="Suzanne Kelly":https://bowesandbounds.org/profile/Suzann
 eKelly
ATTACH;FMTTYPE="image/jpeg":https://storage.ning.com/topology/rest/1.0
 /file/get/12992418289?profile=original
ATTENDEE;ROLE=REQ-PARTICIPANT;PARTSTAT=ACCEPTED;RSVP=TRUE;CN="Suzanne 
 Kelly":https://bowesandbounds.org/profile/SuzanneKelly
END:VEVENT
END:VCALENDAR
