BEGIN:VCALENDAR
PRODID:NingEventWidget-v1
VERSION:2.0
METHOD:PUBLISH
BEGIN:VTIMEZONE
TZID:Europe/London
X-LIC-LOCATION:Europe/London
BEGIN:DAYLIGHT
TZOFFSETFROM:+0000
TZOFFSETTO:+0100
TZNAME:BST
DTSTART:19700329T010000
RRULE:FREQ=YEARLY;BYMONTH=3;BYDAY=-1SU
END:DAYLIGHT
BEGIN:STANDARD
TZOFFSETFROM:+0100
TZOFFSETTO:+0000
TZNAME:GMT
DTSTART:19701025T020000
RRULE:FREQ=YEARLY;BYMONTH=10;BYDAY=-1SU
END:STANDARD
END:VTIMEZONE
BEGIN:VEVENT
UID:6278630:Event:131051
DTSTAMP:20260425T052311Z
SUMMARY:Latin Fitness
DESCRIPTION:WHEN?\nEvery Wednesday 13:00 - 14:00\nStarting The 2nd Ma
 y\n \nWHERE?\nLordship Hub Co-Op\nLordship Recreation Ground:\nOff H
 igham Road, Tottenham London, N17 6NU\n \nClass description:\n \nADU
 LTS ONLY - BEGINNERS WELCOME\nLOSE WEIGHT - GET FIT\nWith Lovely Latin
 -American Dances\nSalsa Cha Cha Jive Bachata Merengue\nTwo New Routine
 s Every Month\n \nEach lesson lasts 60 minutes.\n \nPrices\n1 Passes
  - £5\n4 Passes - £20 (valid 1 month)\n8 Passes - £40 (valid 2
  month)\n12 Passes - £80 (valid 3 month)\n For more information pl
 ease contact JAY on 07522 318 198.\n\nFor more information visit https
 ://bowesandbounds.org/events/latin-fitness
DTSTART;TZID=Europe/London:20180502T130000
DTEND;TZID=Europe/London:20180502T140000
CATEGORIES:dance
LOCATION:Lordship Hub
WEBSITE:https://www.jayjaydance.com/lordshiphub-latin-fitness
URL:https://www.jayjaydance.com/lordshiphub-latin-fitness
CONTACT:07522318198
ORGANIZER:Jay Jay Dance
ATTACH;FMTTYPE="image/jpeg":
ATTENDEE;ROLE=REQ-PARTICIPANT;PARTSTAT=ACCEPTED;RSVP=TRUE;CN="ceyhun b
 urat":https://bowesandbounds.org/profile/ceyhunburat
END:VEVENT
END:VCALENDAR
