BEGIN:VCALENDAR
PRODID:NingEventWidget-v1
VERSION:2.0
METHOD:PUBLISH
BEGIN:VTIMEZONE
TZID:Europe/London
X-LIC-LOCATION:Europe/London
BEGIN:DAYLIGHT
TZOFFSETFROM:+0000
TZOFFSETTO:+0100
TZNAME:BST
DTSTART:19700329T010000
RRULE:FREQ=YEARLY;BYMONTH=3;BYDAY=-1SU
END:DAYLIGHT
BEGIN:STANDARD
TZOFFSETFROM:+0100
TZOFFSETTO:+0000
TZNAME:GMT
DTSTART:19701025T020000
RRULE:FREQ=YEARLY;BYMONTH=10;BYDAY=-1SU
END:STANDARD
END:VTIMEZONE
BEGIN:VEVENT
UID:6278630:Event:131605
DTSTAMP:20260421T111236Z
SUMMARY:LATIN JAZZ AT THE RANELAGH N11
DESCRIPTION:The Deicola Neves band are back at the Ranelagh!\nMusic ma
 rked by the rhythms of Brazil, Bossa Nova and Samba Jazz.\n\nA great n
 ight out!\n\nFor more information visit https://bowesandbounds.org/eve
 nts/latin-jazz-at-the-ranelagh-n11
DTSTART;TZID=Europe/London:20180531T210000
DTEND;TZID=Europe/London:20180531T230000
CATEGORIES:live, music
LOCATION:The Ranelagh
WEBSITE:https://www.theranelaghn11.co.uk/
URL:https://www.theranelaghn11.co.uk/
CONTACT:020 8361 4238
ORGANIZER;CN=SA:https://bowesandbounds.org/profile/SA
ATTACH;FMTTYPE="image/jpeg":
ATTENDEE;ROLE=REQ-PARTICIPANT;PARTSTAT=ACCEPTED;RSVP=TRUE;CN=SA:https:
 //bowesandbounds.org/profile/SA
END:VEVENT
END:VCALENDAR
