BEGIN:VCALENDAR
PRODID:NingEventWidget-v1
VERSION:2.0
METHOD:PUBLISH
BEGIN:VTIMEZONE
TZID:Europe/London
X-LIC-LOCATION:Europe/London
BEGIN:DAYLIGHT
TZOFFSETFROM:+0000
TZOFFSETTO:+0100
TZNAME:BST
DTSTART:19700329T010000
RRULE:FREQ=YEARLY;BYMONTH=3;BYDAY=-1SU
END:DAYLIGHT
BEGIN:STANDARD
TZOFFSETFROM:+0100
TZOFFSETTO:+0000
TZNAME:GMT
DTSTART:19701025T020000
RRULE:FREQ=YEARLY;BYMONTH=10;BYDAY=-1SU
END:STANDARD
END:VTIMEZONE
BEGIN:VEVENT
UID:6278630:Event:140571
DTSTAMP:20260423T004423Z
SUMMARY:Lauren Lucille Band
DESCRIPTION:Lauren Lucille shares her love and life lessons and storie
 s through a musical fusion of folk/jazz/pop. She has a sassy, soulful 
 and versatile voice. Born in Toowoomba, Queensland, Australia, Lauren 
 was surrounded by music from an early age. Her original musical inspir
 ation came from her parents, in particular the musical family of her m
 other, renowned jazz vocalist Sharny Russell. She could often be found
  at her mother’s gigs, learning how to swing before she even knew wh
 at swing was. Over the last 10 years, artists such as Kurt Elling, Tie
 rny Sutton, Gian Slater, Sara Serpa, Regina Spektor, Imogen Heap and A
 ni Difranco have all had a large influence on the way Lauren writes an
 d performs music.\nLauren’s songwriting started at the age of ten, a
 nd through her teens, Lauren was writing folk and pop songs on guitar 
 and piano. She is now acknowledged by her peers as a great composer an
 d performer and was twice a finalist in the QMusic Awards for two of h
 er jazz compositions. James Morrison the great Australian trumpet play
 er added one of Lauren’s compositions to his ‘best of jazz’ list
  for QANTAS international and national inflight entertainment! She is 
 blessed with a magnificent voice, a sound grasp of harmony and sophist
 icated rhythmic sense.\n“This gal has chops!!” Janice Slater – S
 inger. “Her album (Hidden Here) is incredibly smooth, heartfelt, and
  evocative – Just gorgeous!” John Hoffman, teacher/lecturer at Bri
 sbane Conservatorium of Music\nDoors at 7pm, music from 8pm.\n\nFor mo
 re information visit https://bowesandbounds.org/events/lauren-lucille-
 band
DTSTART;TZID=Europe/London:20200311T190000
DTEND;TZID=Europe/London:20200311T233000
CATEGORIES:music
LOCATION:KaramelN22
WEBSITE:https://www.musicglue.com/karamel/events/2020-04-02-lucille-la
 nd-band-karamel
URL:https://www.musicglue.com/karamel/events/2020-04-02-lucille-land-b
 and-karamel
CONTACT:
ORGANIZER;CN="Collage Arts":https://bowesandbounds.org/profile/Collage
 Arts105
ATTACH;FMTTYPE="image/jpeg":https://storage.ning.com/topology/rest/1.0
 /file/get/4075127985?profile=original
ATTENDEE;ROLE=REQ-PARTICIPANT;PARTSTAT=ACCEPTED;RSVP=TRUE;CN="Collage 
 Arts":https://bowesandbounds.org/profile/CollageArts105
END:VEVENT
END:VCALENDAR
