BEGIN:VCALENDAR
PRODID:NingEventWidget-v1
VERSION:2.0
METHOD:PUBLISH
BEGIN:VTIMEZONE
TZID:Europe/London
X-LIC-LOCATION:Europe/London
BEGIN:DAYLIGHT
TZOFFSETFROM:+0000
TZOFFSETTO:+0100
TZNAME:BST
DTSTART:19700329T010000
RRULE:FREQ=YEARLY;BYMONTH=3;BYDAY=-1SU
END:DAYLIGHT
BEGIN:STANDARD
TZOFFSETFROM:+0100
TZOFFSETTO:+0000
TZNAME:GMT
DTSTART:19701025T020000
RRULE:FREQ=YEARLY;BYMONTH=10;BYDAY=-1SU
END:STANDARD
END:VTIMEZONE
BEGIN:VEVENT
UID:6278630:Event:131847
DTSTAMP:20260424T181801Z
SUMMARY:Leafy Bean Book Club
DESCRIPTION:Come join our book club, join other locals and discuss our
  monthly read.\nThis Month’s Book\n\n\n\n\nThe Stars’ Tennis Balls
 , by Stephen Fry.\nNed Maddstone has the world at his feet. He is hand
 some, talented and about to go to Cambridge, after which he is expecte
 d to follow his father into politics. But an unfortunate confrontation
  with a boy in his school results in a prank that goes badly wrong and
  suddenly he’s incarcerated – without chance of release. So begins
  a year long process of torment and hopelessness, which will destroy h
 is very identity, until almost nothing remains of him but this unquenc
 hable desire for revenge. \n\n\n\nFor more information visit https://
 bowesandbounds.org/events/leafy-bean-book-club-1
DTSTART;TZID=Europe/London:20180725T190000
DTEND;TZID=Europe/London:20180725T200000
CATEGORIES:book, club
LOCATION:Leafy Bean Company - Bowes park station- platform 1
WEBSITE:http://leafybeancompany.com/events/
URL:http://leafybeancompany.com/events/
CONTACT:
ORGANIZER;CN="Leafy Bean Company":https://bowesandbounds.org/profile/L
 auramonk
ATTACH;FMTTYPE="image/jpeg":http://storage.ning.com/topology/rest/1.0/
 file/get/2240973616?profile=original
ATTENDEE;ROLE=REQ-PARTICIPANT;PARTSTAT=ACCEPTED;RSVP=TRUE;CN="Leafy Be
 an Company":https://bowesandbounds.org/profile/Lauramonk
END:VEVENT
END:VCALENDAR
