BEGIN:VCALENDAR
PRODID:NingEventWidget-v1
VERSION:2.0
METHOD:PUBLISH
BEGIN:VTIMEZONE
TZID:Europe/London
X-LIC-LOCATION:Europe/London
BEGIN:DAYLIGHT
TZOFFSETFROM:+0000
TZOFFSETTO:+0100
TZNAME:BST
DTSTART:19700329T010000
RRULE:FREQ=YEARLY;BYMONTH=3;BYDAY=-1SU
END:DAYLIGHT
BEGIN:STANDARD
TZOFFSETFROM:+0100
TZOFFSETTO:+0000
TZNAME:GMT
DTSTART:19701025T020000
RRULE:FREQ=YEARLY;BYMONTH=10;BYDAY=-1SU
END:STANDARD
END:VTIMEZONE
BEGIN:VEVENT
UID:6278630:Event:135926
DTSTAMP:20260420T020512Z
SUMMARY:Leafy Bean Book Club
DESCRIPTION:Leafy Bean book club is a reading group that meets once a 
 month, we are a friendly mixed bunch of people. Located in the heart o
 f Bounds green we meet to discuss contemporary fiction whilst sipping 
 coffee, tea ( occasionally the odd glass on wine). THIS MONTHS BOOK IS
  - Oranges are not the only fruit by Janet Winterson\n\nFor more infor
 mation visit https://bowesandbounds.org/events/leafy-bean-book-club-2
DTSTART;TZID=Europe/London:20190425T190000
DTEND;TZID=Europe/London:20190425T200000
CATEGORIES:leafy, bean, book, club
LOCATION:Leafy Bean Co - Platform 1
WEBSITE:
URL:
CONTACT:
ORGANIZER;CN="Leafy Bean Company":https://bowesandbounds.org/profile/L
 auramonk
ATTACH;FMTTYPE="image/jpeg":https://storage.ning.com/topology/rest/1.0
 /file/get/1855089253?profile=original
ATTENDEE;ROLE=REQ-PARTICIPANT;PARTSTAT=ACCEPTED;RSVP=TRUE;CN="Leafy Be
 an Company":https://bowesandbounds.org/profile/Lauramonk
END:VEVENT
END:VCALENDAR
