BEGIN:VCALENDAR
PRODID:NingEventWidget-v1
VERSION:2.0
METHOD:PUBLISH
BEGIN:VTIMEZONE
TZID:Europe/London
X-LIC-LOCATION:Europe/London
BEGIN:DAYLIGHT
TZOFFSETFROM:+0000
TZOFFSETTO:+0100
TZNAME:BST
DTSTART:19700329T010000
RRULE:FREQ=YEARLY;BYMONTH=3;BYDAY=-1SU
END:DAYLIGHT
BEGIN:STANDARD
TZOFFSETFROM:+0100
TZOFFSETTO:+0000
TZNAME:GMT
DTSTART:19701025T020000
RRULE:FREQ=YEARLY;BYMONTH=10;BYDAY=-1SU
END:STANDARD
END:VTIMEZONE
BEGIN:VEVENT
UID:6278630:Event:246865
DTSTAMP:20260420T013652Z
SUMMARY:Learn to Make a Summer Skirt! Saturday 6th April 10:30-2:30
DESCRIPTION:Who doesn’t love a summer skirt?\nChoose to do a Pencil 
 Skirt or an A Line Skirt!\nCome join us for a workshop to learn to mak
 e a summer skirt that is perfect for all body types and wearable for a
 ny occasion!\nWith our expert seamstress Pat Stevens you will make a v
 ery on trend skirt that will carry you through all the seasons. Dress 
 it up in winter with tights and boots and a jumper on a cooler evening
  or in the warmer months with sandals and short sleeves. This skirt is
  definitely a staple for any wardrobe!\nIn this class you will be cove
 ring:\n- Patch Pockets\n- Zippers\n- Waist Band\n- Slit (optional)\n- 
 Top Stitching\nYou could pre-order here your fabric or pop into the sh
 op or you are welcome to bring your own if you wish.\nAmount of fabric
  will vary depending on size but generally providing fabric is 150 cms
  wide (then 1 metre is enough for a short skirt or knee length- 25/27\
 ". More is needed obviously if fabric isn't so wide or for a longer sk
 irt.\nLight refreshments, biscuits and a warm learning environment, sm
 iles, laughter and some serious sewing will be included.\nPlease send 
 us your dress size in notes when booking.\nCLASS SIZE: 6\nCOST: £ 80.
 00\nDURATION: 4 hours\nDATE & TIME: Saturday 6th April 10:30-12:30\nLO
 CATION: 2 Hazelwood lane, Palmers Green N13 5EX\nWe all at StitchN13 l
 ook forward to meeting you and sharing our love of all things craft!\n
 Please ensure you have read fully our terms and conditions.\n\nFor mor
 e information visit https://bowesandbounds.org/events/learn-to-make-a-
 summer-skirt-saturday-6th-april-10-30-2-30
DTSTART;TZID=Europe/London:20240406T103000
DTEND;TZID=Europe/London:20240406T143000
CATEGORIES:sewing, class
LOCATION:2 Hazelwood Lane, Palmers Green N13 5EX
WEBSITE:https://www.stitch.org.uk/
URL:https://www.stitch.org.uk/
CONTACT:07903 614726
ORGANIZER;CN="Suzanne Kelly":https://bowesandbounds.org/profile/Suzann
 eKelly
ATTACH;FMTTYPE="image/jpeg":https://storage.ning.com/topology/rest/1.0
 /file/get/12421306265?profile=original
ATTENDEE;ROLE=REQ-PARTICIPANT;PARTSTAT=ACCEPTED;RSVP=TRUE;CN="Suzanne 
 Kelly":https://bowesandbounds.org/profile/SuzanneKelly
END:VEVENT
END:VCALENDAR
