BEGIN:VCALENDAR
PRODID:NingEventWidget-v1
VERSION:2.0
METHOD:PUBLISH
BEGIN:VTIMEZONE
TZID:Europe/London
X-LIC-LOCATION:Europe/London
BEGIN:DAYLIGHT
TZOFFSETFROM:+0000
TZOFFSETTO:+0100
TZNAME:BST
DTSTART:19700329T010000
RRULE:FREQ=YEARLY;BYMONTH=3;BYDAY=-1SU
END:DAYLIGHT
BEGIN:STANDARD
TZOFFSETFROM:+0100
TZOFFSETTO:+0000
TZNAME:GMT
DTSTART:19701025T020000
RRULE:FREQ=YEARLY;BYMONTH=10;BYDAY=-1SU
END:STANDARD
END:VTIMEZONE
BEGIN:VEVENT
UID:6278630:Event:239652
DTSTAMP:20260420T141655Z
SUMMARY:Learn to sew a Summer Blouse!
DESCRIPTION:Learn to sew a Summer top at Stitch!\nSummer is around the
  corner and what better garment to add to your wardrobe than a summer 
 blouse: Flowing and comfortable and suits all body types. This is a pu
 ll over top and can be used off-the-shoulder on those warm summer days
 . It would be a perfect garment to sew to improve your sewing skills w
 ith our resident seamstress Pat Stevens!\nThis is an improver dressmak
 ing workshop. You should already know your way around a sewing machine
 , be able to thread the machine and load the bobbin and do forward and
  back straight stitching. This workshop is a great introduction to mak
 ing a simple garment and to helping you understand the basic principle
 s of cutting out a pattern and dressmaking.\nThe skills you will learn
  include:\nPattern cutting\nCutting the pieces accurately\nMaking a ch
 annel for elastic\nFrench seams\nRaslan sleeves\nWe will provide the d
 ress pattern for you. You can bring along some fabric of your choice, 
 or purchase a fabric in advance.\nThis is an improver dressmaking work
 shop. You should already know your way around a sewing machine, be abl
 e to thread the machine and load the bobbin and do forward and back st
 raight stitching.\nIf bringing your own the recommended fabric amount:
 \n60m wide - 1 meter\n45m wide - 1.5 meters\nThe amount of fabric will
  depend on your measurements and the design/pattern on the fabric. You
  will require more fabric if there is a one-way design on your fabric.
 \nIF YOU ARE BOOKING CAN YOU PLEASE EMAIL IN YOUR DRESS SIZE.\nPlease 
 bring a notebook and pen if you would like to take notes.\nCLASS SIZE:
  6 maximum\nDATE & TIME: Saturday 30th April 10:30-1:30pm\nDURATION: 3
 hrs\nPRICE: £55\nLOCATION: Stitch Crafts and Classes! 364 Green Lanes
 , Palmers Green, N13 5XL (within the Post Office entrance)\nTea, refre
 shments and biscuits are provided.\nPlease ensure that you have read f
 ully our terms and conditions.\nThis is a class for adults only and no
 t suitable for children.\nWe look forward to meeting you!\nThe StitchN
 13 Team x\n\n\nFor more information visit https://bowesandbounds.org/e
 vents/learn-to-sew-a-summer-blouse
DTSTART;TZID=Europe/London:20220430T103000
DTEND;TZID=Europe/London:20220430T133000
CATEGORIES:sewing, class
LOCATION:Stitch Crafts and Classes, 364 Green Lanes, (inside Post Offi
 ce entrance) Palmers Green, N13 5XL
WEBSITE:https://www.stitch.org.uk/
URL:https://www.stitch.org.uk/
CONTACT:07903 614726
ORGANIZER;CN="Suzanne Kelly":https://bowesandbounds.org/profile/Suzann
 eKelly
ATTACH;FMTTYPE="image/jpeg":https://storage.ning.com/topology/rest/1.0
 /file/get/10266489878?profile=original
ATTENDEE;ROLE=REQ-PARTICIPANT;PARTSTAT=ACCEPTED;RSVP=TRUE;CN="Suzanne 
 Kelly":https://bowesandbounds.org/profile/SuzanneKelly
END:VEVENT
END:VCALENDAR
