BEGIN:VCALENDAR
PRODID:NingEventWidget-v1
VERSION:2.0
METHOD:PUBLISH
BEGIN:VTIMEZONE
TZID:Europe/London
X-LIC-LOCATION:Europe/London
BEGIN:DAYLIGHT
TZOFFSETFROM:+0000
TZOFFSETTO:+0100
TZNAME:BST
DTSTART:19700329T010000
RRULE:FREQ=YEARLY;BYMONTH=3;BYDAY=-1SU
END:DAYLIGHT
BEGIN:STANDARD
TZOFFSETFROM:+0100
TZOFFSETTO:+0000
TZNAME:GMT
DTSTART:19701025T020000
RRULE:FREQ=YEARLY;BYMONTH=10;BYDAY=-1SU
END:STANDARD
END:VTIMEZONE
BEGIN:VEVENT
UID:6278630:Event:244743
DTSTAMP:20260420T114044Z
SUMMARY:Learn to use a sewing machine Saturday July 8th 10:30-12:00 £
 40.00
DESCRIPTION:With Pat Stevens\nWhat you will learn -\nAre you a complet
 e sewing beginner looking to make sense of how to use a sewing machine
 ?\nThis is a one-off class for beginners perfect for you! Hosted by ex
 pert seamstress Pat Stevens\nYou will\n• Learn your way around the w
 orkings, parts and components of a sewing machine\n• Learn how to se
 t up and thread a machine and how to wind a bobbin\n• Learn how to s
 et the correct tension\n• Learn how to sew straight seams\n* Changin
 g the needle\n* You will practice some stitching in order to gain the 
 skills you need to tackle your future projects.\nWhat you need to brin
 g -\nAll equipment and material provided. We have Janome sewing machin
 es on site. Do bring a notebook in case you wish to jot down ideas.\nC
 LASS SIZE: 6\nCOST: £40\n20% off any fabric bought on the day of your
  class.\nDURATION: 1.5 hours\nDATE & TIME: Saturday 20th May, 1-2.30pm
 \nLOCATION: Stitch Crafts and Classes! 2 Hazelwood Lane, Palmers Green
 , N13 5EX\nTea, refreshments and biscuits are provided!\nPlease ensure
  you have read fully our terms and conditions.\n(This is a class for a
 dults not suitable for children).\nWe look forward to meeting you and 
 helping you on your journey in the world of sewing!\nThe StitchN13 Tea
 m x\n\n\nFor more information visit https://bowesandbounds.org/events/
 learn-to-use-a-sewing-machine-saturday-july-8th-10-30-12-00-40-00
DTSTART;TZID=Europe/London:20230708T103000
DTEND;TZID=Europe/London:20230708T120000
CATEGORIES:sewing, class
LOCATION:2 Hazelwood Lane, Palmers Green N13 5EX
WEBSITE:https://www.stitch.org.uk/
URL:https://www.stitch.org.uk/
CONTACT:07903 614726
ORGANIZER;CN="Suzanne Kelly":https://bowesandbounds.org/profile/Suzann
 eKelly
ATTACH;FMTTYPE="image/jpeg":https://storage.ning.com/topology/rest/1.0
 /file/get/11487522689?profile=original
ATTENDEE;ROLE=REQ-PARTICIPANT;PARTSTAT=ACCEPTED;RSVP=TRUE;CN="Suzanne 
 Kelly":https://bowesandbounds.org/profile/SuzanneKelly
END:VEVENT
END:VCALENDAR
