BEGIN:VCALENDAR
PRODID:NingEventWidget-v1
VERSION:2.0
METHOD:PUBLISH
BEGIN:VTIMEZONE
TZID:Europe/London
X-LIC-LOCATION:Europe/London
BEGIN:DAYLIGHT
TZOFFSETFROM:+0000
TZOFFSETTO:+0100
TZNAME:BST
DTSTART:19700329T010000
RRULE:FREQ=YEARLY;BYMONTH=3;BYDAY=-1SU
END:DAYLIGHT
BEGIN:STANDARD
TZOFFSETFROM:+0100
TZOFFSETTO:+0000
TZNAME:GMT
DTSTART:19701025T020000
RRULE:FREQ=YEARLY;BYMONTH=10;BYDAY=-1SU
END:STANDARD
END:VTIMEZONE
BEGIN:VEVENT
UID:6278630:Event:246868
DTSTAMP:20260419T193451Z
SUMMARY:Learn To Use A Sewing Machine! Thursday 18th April 7:00-9:00pm
DESCRIPTION:What you will learn :\nAre you a complete sewing beginner 
 looking to make sense of how to use a sewing machine?\nThis is a one-o
 ff class for beginners perfect for you! Hosted by expert seamstress Na
 dira Dean.\nYou will\n• Learn your way around the workings, parts an
 d components of a sewing machine\n• Learn how to set up and thread a
  machine and how to wind a bobbin\n• Learn how to set the correct te
 nsion\n• Learn how to sew straight seams\n* Changing the needle\n* U
 sing a zipper foot and a 1/4 inch seam foot\n* You will practice some 
 stitching in order to gain the skills you need to tackle your future p
 rojects.\nWhat you need to bring -\nAll equipment and material provide
 d. We have Janome sewing machines on site. Do bring a notebook in case
  you wish to jot down ideas.\nCLASS SIZE: 6\nCOST: £48\nDURATION: 1.5
  hours\nDATE & TIME: Thursday 18th April 7:00-9:00pm\nLOCATION: Stitch
  Crafts and Classes! 2 Hazelwood Lane, Palmers Green N13 5EX\nTea, ref
 reshments and biscuits are provided!\nPlease ensure you have read full
 y our terms and conditions. (This is a class for adults not suitable f
 or children).\n\n\n\n\n\n\nFor more information visit https://bowesand
 bounds.org/events/learn-to-use-a-sewing-machine-thursday-18th-april-7-
 00-9-00pm
DTSTART;TZID=Europe/London:20240418T190000
DTEND;TZID=Europe/London:20240418T210000
CATEGORIES:sewing, class
LOCATION:2 Hazelwood Lane, Palmers Green N13 5EX
WEBSITE:https://www.stitch.org.uk/
URL:https://www.stitch.org.uk/
CONTACT:07903 614726
ORGANIZER;CN="Suzanne Kelly":https://bowesandbounds.org/profile/Suzann
 eKelly
ATTACH;FMTTYPE="image/jpeg":https://storage.ning.com/topology/rest/1.0
 /file/get/12421308674?profile=original
ATTENDEE;ROLE=REQ-PARTICIPANT;PARTSTAT=ACCEPTED;RSVP=TRUE;CN="Suzanne 
 Kelly":https://bowesandbounds.org/profile/SuzanneKelly
END:VEVENT
END:VCALENDAR
