BEGIN:VCALENDAR
PRODID:NingEventWidget-v1
VERSION:2.0
METHOD:PUBLISH
BEGIN:VTIMEZONE
TZID:Europe/London
X-LIC-LOCATION:Europe/London
BEGIN:DAYLIGHT
TZOFFSETFROM:+0000
TZOFFSETTO:+0100
TZNAME:BST
DTSTART:19700329T010000
RRULE:FREQ=YEARLY;BYMONTH=3;BYDAY=-1SU
END:DAYLIGHT
BEGIN:STANDARD
TZOFFSETFROM:+0100
TZOFFSETTO:+0000
TZNAME:GMT
DTSTART:19701025T020000
RRULE:FREQ=YEARLY;BYMONTH=10;BYDAY=-1SU
END:STANDARD
END:VTIMEZONE
BEGIN:VEVENT
UID:6278630:Event:254210
DTSTAMP:20260421T150122Z
SUMMARY:Lego Church
DESCRIPTION:If your children (or you …) like building and playing wi
 th Lego, come along to Lego Church at Muswell Hill Methodist Church on
  Sunday!\nWhen: Sunday 26th April 3.30–4.45pmWhere: Muswell Hill Met
 hodist Church, 28 Pages Lane, Muswell Hill, N10 1PP what3words: ///hil
 l.method.hatchWhat: story, play with Lego, show and tell, refreshments
 \nLego Church is free (donations appreciated) and all are welcome. The
 re’s no need to book but if you have any questions, email info@mhmc.
 org.uk.\n\nFor more information visit https://bowesandbounds.org/event
 s/lego-church-3
DTSTART;TZID=Europe/London:20260426T153000
DTEND;TZID=Europe/London:20260426T164500
CATEGORIES:lego, church, family, free
LOCATION:Muswell Hill Methodist Church
WEBSITE:https://mhmc.org.uk/
URL:https://mhmc.org.uk/
CONTACT:020 8365 2466
ORGANIZER;CN="Penny Woods":https://bowesandbounds.org/profile/PennyWoo
 ds
ATTACH;FMTTYPE="image/jpeg":https://storage.ning.com/topology/rest/1.0
 /file/get/31135259682?profile=original
ATTENDEE;ROLE=REQ-PARTICIPANT;PARTSTAT=ACCEPTED;RSVP=TRUE;CN="Penny Wo
 ods":https://bowesandbounds.org/profile/PennyWoods
END:VEVENT
END:VCALENDAR
