BEGIN:VCALENDAR
PRODID:NingEventWidget-v1
VERSION:2.0
METHOD:PUBLISH
BEGIN:VTIMEZONE
TZID:Europe/London
X-LIC-LOCATION:Europe/London
BEGIN:DAYLIGHT
TZOFFSETFROM:+0000
TZOFFSETTO:+0100
TZNAME:BST
DTSTART:19700329T010000
RRULE:FREQ=YEARLY;BYMONTH=3;BYDAY=-1SU
END:DAYLIGHT
BEGIN:STANDARD
TZOFFSETFROM:+0100
TZOFFSETTO:+0000
TZNAME:GMT
DTSTART:19701025T020000
RRULE:FREQ=YEARLY;BYMONTH=10;BYDAY=-1SU
END:STANDARD
END:VTIMEZONE
BEGIN:VEVENT
UID:6278630:Event:132650
DTSTAMP:20260424T133110Z
SUMMARY:Let’s improve Haringey health services together!
DESCRIPTION:Come along to Haringey Clinical Commissioning Group’s (C
 CG) public meeting and discuss local health services that matter to yo
 u.\nWe are holding a public meeting on Thursday 11 October to discuss 
 some of the local health services that Haringey residents have told us
  are most important to the community.\nThere’ll be an afternoon sess
 ion from 2:00pm – 4:00pm (with lunch from 1:30pm) and a repeat sessi
 on in the evening from 6:00pm – 8:00pm (with refreshments from 5:30p
 m).\nWe’ll be looking at different areas, including primary care, me
 ntal health, urgent care services and care of the elderly.\nThere’ll
  also be a chance for you to meet some of the local GPs and ask us que
 stions.\nLight refreshments will be provided.\nPlease join us! Everyon
 e in Haringey is welcome!\nYou can book your place on a session here.
 \nThe venue is accessible for all visitors but please do let us know i
 f you have any special access needs. A British Sign Language (BSL) int
 erpreter will be at the event.\nFor more information, please contact u
 s on harccg.info@nhs.net or 020 3688 2729 (Monday – Friday, 9:00am-5
 :00pm).\nHaringey CCG is responsible for planning and buying healthcar
 e services for Haringey residents. Visit www.haringeyccg.nhs.uk for mo
 re information about the work we do.\n\nFor more information visit htt
 ps://bowesandbounds.org/events/let-s-improve-haringey-health-services-
 together-1
DTSTART;TZID=Europe/London:20181011T180000
DTEND;TZID=Europe/London:20181011T200000
CATEGORIES:public, meeting
LOCATION:Tottenham Green Leisure Centre
WEBSITE:https://goo.gl/maps/Kqiff6W1M6M2
URL:https://goo.gl/maps/Kqiff6W1M6M2
CONTACT:
ORGANIZER;CN="Haringey CCG":https://bowesandbounds.org/profile/Haringe
 yCCG
ATTACH;FMTTYPE="image/jpeg":http://storage.ning.com/topology/rest/1.0/
 file/get/2287330360?profile=original
ATTENDEE;ROLE=REQ-PARTICIPANT;PARTSTAT=ACCEPTED;RSVP=TRUE;CN="Haringey
  CCG":https://bowesandbounds.org/profile/HaringeyCCG
END:VEVENT
END:VCALENDAR
