BEGIN:VCALENDAR
PRODID:NingEventWidget-v1
VERSION:2.0
METHOD:PUBLISH
BEGIN:VTIMEZONE
TZID:Europe/London
X-LIC-LOCATION:Europe/London
BEGIN:DAYLIGHT
TZOFFSETFROM:+0000
TZOFFSETTO:+0100
TZNAME:BST
DTSTART:19700329T010000
RRULE:FREQ=YEARLY;BYMONTH=3;BYDAY=-1SU
END:DAYLIGHT
BEGIN:STANDARD
TZOFFSETFROM:+0100
TZOFFSETTO:+0000
TZNAME:GMT
DTSTART:19701025T020000
RRULE:FREQ=YEARLY;BYMONTH=10;BYDAY=-1SU
END:STANDARD
END:VTIMEZONE
BEGIN:VEVENT
UID:6278630:Event:111592
DTSTAMP:20260422T051610Z
SUMMARY:Let's talk about...dying
DESCRIPTION:One thing in life is certain… we will all die one day. T
 alking about it, won’t make it happen!People reaching the end of lif
 e should be enabled to die in comfort, with dignity and in the surroun
 dings of their choice. Haringey is committed to caring for these peopl
 e, and the people important to them, with compassion and in a manner w
 hich is respectful of their expressed wishes.The new Haringey Palliati
 ve Care Service will be officially launched by David Lammy MP at this 
 special event, which will be held at Tottenham Town Hall N15 on Friday
  13 May 2016. The event will run from 10.30am to 3pm.This is a FREE dr
 op-in event for people in Haringey, with talks, stalls and information
  from the Haringey Palliative Care Team, Alzheimer’s Society, local 
 hospices, local funeral directors, Compassion in Dying, and Dementia S
 ervices. Local solicitors will be on hand with legal advice, and there
  will be free health checks and refreshments throughout the day. Local
  people will also have the opportunity to plan their ‘Digital Legacy
 ’, discuss the creation of a memory box for their family and friends
 , and discover the many options for funerals.All welcome to attend. Co
 me along for the whole day or pop in at any time.Click here for the ev
 ent leaflet with more information.You can also call 07960 556 922,  e
 mail info@healthwatchharingey.org.uk or visit Healthwatch Haringey's w
 ebsite.This event ties in with Dying Matters Week (9-15 May), a natio
 nal campaign which helps to highlight the importance of talking about 
 dying, death and bereavement.\n\nFor more information visit https://bo
 wesandbounds.org/events/let-s-talk-about-dying
DTSTART;TZID=Europe/London:20160513T103000
DTEND;TZID=Europe/London:20160513T150000
CATEGORIES:community, "health fair", "health service launch", launch
LOCATION:Tottenham Town Hall
WEBSITE:
URL:
CONTACT:07960 556 922
ORGANIZER;CN="Haringey CCG":https://bowesandbounds.org/profile/Haringe
 yCCG
ATTACH;FMTTYPE="image/jpeg":
ATTENDEE;ROLE=REQ-PARTICIPANT;PARTSTAT=ACCEPTED;RSVP=TRUE;CN="Haringey
  CCG":https://bowesandbounds.org/profile/HaringeyCCG
END:VEVENT
END:VCALENDAR
