BEGIN:VCALENDAR
PRODID:NingEventWidget-v1
VERSION:2.0
METHOD:PUBLISH
BEGIN:VTIMEZONE
TZID:Europe/London
X-LIC-LOCATION:Europe/London
BEGIN:DAYLIGHT
TZOFFSETFROM:+0000
TZOFFSETTO:+0100
TZNAME:BST
DTSTART:19700329T010000
RRULE:FREQ=YEARLY;BYMONTH=3;BYDAY=-1SU
END:DAYLIGHT
BEGIN:STANDARD
TZOFFSETFROM:+0100
TZOFFSETTO:+0000
TZNAME:GMT
DTSTART:19701025T020000
RRULE:FREQ=YEARLY;BYMONTH=10;BYDAY=-1SU
END:STANDARD
END:VTIMEZONE
BEGIN:VEVENT
UID:6278630:Event:101118
DTSTAMP:20260425T033336Z
SUMMARY:Let the people sing
DESCRIPTION:we want to hear you singing with us, Enfield Community Sin
 gers,  at our Supah-Doopah new concert Entry and Refreshments Comple
 tely free but donations to Alzheimer’s greatly appreciated\nBus Rout
 es 125, 298, 299, 382 pass the store (alight at Asda Superstore)\n\nFo
 r more information visit https://bowesandbounds.org/events/let-the-peo
 ple-sing-1
DTSTART;TZID=Europe/London:20150919T191500
DTEND;TZID=Europe/London:20150919T210000
CATEGORIES:choir, "community singers"
LOCATION:St Andrews Parish Church
WEBSITE:http://www.letthepeoplesing.co.uk/new-show/
URL:http://www.letthepeoplesing.co.uk/new-show/
CONTACT:
ORGANIZER;CN="Donald Smith":https://bowesandbounds.org/profile/DonaldS
 mith
ATTACH;FMTTYPE="image/jpeg":
ATTENDEE;ROLE=REQ-PARTICIPANT;PARTSTAT=ACCEPTED;RSVP=TRUE;CN="Donald S
 mith":https://bowesandbounds.org/profile/DonaldSmith
END:VEVENT
END:VCALENDAR
