BEGIN:VCALENDAR
PRODID:NingEventWidget-v1
VERSION:2.0
METHOD:PUBLISH
BEGIN:VTIMEZONE
TZID:Europe/London
X-LIC-LOCATION:Europe/London
BEGIN:DAYLIGHT
TZOFFSETFROM:+0000
TZOFFSETTO:+0100
TZNAME:BST
DTSTART:19700329T010000
RRULE:FREQ=YEARLY;BYMONTH=3;BYDAY=-1SU
END:DAYLIGHT
BEGIN:STANDARD
TZOFFSETFROM:+0100
TZOFFSETTO:+0000
TZNAME:GMT
DTSTART:19701025T020000
RRULE:FREQ=YEARLY;BYMONTH=10;BYDAY=-1SU
END:STANDARD
END:VTIMEZONE
BEGIN:VEVENT
UID:6278630:Event:239917
DTSTAMP:20260421T155045Z
SUMMARY:Life Writing and Memoir: Evening Workshop
DESCRIPTION:Life Writing & Memoir Evening Workshop, with Giovanna Iozz
 i\n‘You must write a memoir as if you’re writing a novel, you have
  to give it a shape.’ Blake Morrison\nOver 6 weeks, we will explore 
 how to shape and structure our writing in a compelling and novelistic 
 way. We will learn ways to hook our readers into our story, keep them 
 turning the pages, charm and alarm them with our characters and reveal
  fascinating, relatable truths about our lives.\nWe will investigate w
 hat is meant by a strong voice in memoir and understand how stylistic 
 devices like dialogue, scene building, setting description, and suspen
 se creates a vivid world the reader can disappear inside. As well as r
 eading extracts from published memoirists, nominated students will hav
 e the chance to workshop extracts of their writing each week.\nAll lev
 els welcome.\nWednesday evenings, 6.30pm to 9pm. June 8, 15, 22, 29, J
 uly 6, 13. £125. Email contact@writingroom.org.uk\n\nFor more infor
 mation visit https://bowesandbounds.org/events/life-writing-amp-memoir
 -evening-workshop
DTSTART;TZID=Europe/London:20220608T183000
DTEND;TZID=Europe/London:20220608T210000
CATEGORIES:"online memoir course", "life writing workshop", "creative 
 writing online", "zoom course"
LOCATION:Zoom Online from Writing Room
WEBSITE:https://www.writingroom.org.uk/courses/life-writing-and-memoir
URL:https://www.writingroom.org.uk/courses/life-writing-and-memoir
CONTACT:
ORGANIZER:Carmel for Writing Room
ATTACH;FMTTYPE="image/jpeg":https://storage.ning.com/topology/rest/1.0
 /file/get/10448400889?profile=original
ATTENDEE;ROLE=REQ-PARTICIPANT;PARTSTAT=ACCEPTED;RSVP=TRUE;CN="c p shor
 tall":https://bowesandbounds.org/profile/3j09t7wiq9lkd
END:VEVENT
END:VCALENDAR
