BEGIN:VCALENDAR
PRODID:NingEventWidget-v1
VERSION:2.0
METHOD:PUBLISH
BEGIN:VTIMEZONE
TZID:Europe/London
X-LIC-LOCATION:Europe/London
BEGIN:DAYLIGHT
TZOFFSETFROM:+0000
TZOFFSETTO:+0100
TZNAME:BST
DTSTART:19700329T010000
RRULE:FREQ=YEARLY;BYMONTH=3;BYDAY=-1SU
END:DAYLIGHT
BEGIN:STANDARD
TZOFFSETFROM:+0100
TZOFFSETTO:+0000
TZNAME:GMT
DTSTART:19701025T020000
RRULE:FREQ=YEARLY;BYMONTH=10;BYDAY=-1SU
END:STANDARD
END:VTIMEZONE
BEGIN:VEVENT
UID:6278630:Event:239031
DTSTAMP:20260422T035104Z
SUMMARY:Life Writing and Memoir Workshop with Giovanna Iozzi â€‹
DESCRIPTION:Life Writing & Memoir Workshop with Giovanna Iozzi â€‹\nâ€
 ˜You must write a memoir as if youâ€™re writing a novel, you have to g
 ive it a shape.â€™ Blake Morrison\nOver 6 weeks, we will explore how t
 o shape and structure our writing in a compelling and novelistic way. 
 We will learn ways to hook our readers into our story, keep them turni
 ng the pages, charm and alarm them with our characters and reveal fasc
 inating, relatable truths about our lives.\nWe will investigate what i
 s meant by a strong voice in memoir and understand how stylistic devic
 es like dialogue, scene building, setting description, and suspense cr
 eates a vivid world the reader can disappear inside. As well as readin
 g extracts from published memoirists, nominated students will have the
  chance to workshop extracts of their writing each week.Â All levels w
 elcome.\nTuesday mornings: 10.30am-1pm.Â Feb 22, March 1, 8, 15, 22, 2
 9.Â Â£125. Email kate@collage-arts.org to reserve your place and recei
 ve a payment link.Â Virtual Writing Room via ZOOM video conference & c
 orrespondence.\n\nFor more information visit https://bowesandbounds.or
 g/events/life-writing-and-memoir-workshop-with-giovanna-iozzi-2
DTSTART;TZID=Europe/London:20220222T103000
DTEND;TZID=Europe/London:20220222T130000
CATEGORIES:"online memoir course", "life writing workshop", "creative 
 writing online", "zoom course"
LOCATION:Zoom Online from Collage Writing Room
WEBSITE:http://collagewritingroom.com/spring-programme/
URL:http://collagewritingroom.com/spring-programme/
CONTACT:
ORGANIZER;CN="c p shortall":https://bowesandbounds.org/profile/3j09t7w
 iq9lkd
ATTACH;FMTTYPE="image/jpeg":https://storage.ning.com/topology/rest/1.0
 /file/get/10038825882?profile=original
ATTENDEE;ROLE=REQ-PARTICIPANT;PARTSTAT=ACCEPTED;RSVP=TRUE;CN="c p shor
 tall":https://bowesandbounds.org/profile/3j09t7wiq9lkd
END:VEVENT
END:VCALENDAR
