BEGIN:VCALENDAR
PRODID:NingEventWidget-v1
VERSION:2.0
METHOD:PUBLISH
BEGIN:VTIMEZONE
TZID:Europe/London
X-LIC-LOCATION:Europe/London
BEGIN:DAYLIGHT
TZOFFSETFROM:+0000
TZOFFSETTO:+0100
TZNAME:BST
DTSTART:19700329T010000
RRULE:FREQ=YEARLY;BYMONTH=3;BYDAY=-1SU
END:DAYLIGHT
BEGIN:STANDARD
TZOFFSETFROM:+0100
TZOFFSETTO:+0000
TZNAME:GMT
DTSTART:19701025T020000
RRULE:FREQ=YEARLY;BYMONTH=10;BYDAY=-1SU
END:STANDARD
END:VTIMEZONE
BEGIN:VEVENT
UID:6278630:Event:196945
DTSTAMP:20260420T032331Z
SUMMARY:Introduction to Life Writing and Memoir with Giovanna Iozzi
DESCRIPTION:Tuesday mornings, 10am-12.30pm, Feb 23, March 2, 9, 16, 23
 , 30. Virtual Writing Room via ZOOM video conference & correspondence
 \nOver 6 weeks, we will explore the concept of writing from life – w
 hether from our own lives or the real lives of others – looking at a
 ll the forms we can use to write the stories we want to tell. We will 
 discuss how to shape and structure our work in a compelling and noveli
 stic way. We will learn ways to hook our readers into our story, keep 
 them turning the pages, charm and alarm them with our characters and r
 eveal fascinating, relatable truths about our lives. We will investiga
 te what is meant by a strong voice and understand how stylistic device
 s like dialogue, scene building, setting description, and suspense cre
 ates a vivid world the reader can disappear inside. As well as reading
  extracts from published memoirists and life-writers, nominated studen
 ts will have the chance to workshop extracts of their writing each wee
 k. All levels welcome.\nCost £125 (email kate@collage-arts.org to reg
 ister and receive payment link)\nYou can progress to Life Writing & Me
 moir Workshop in the Summer term.\nWe would love to welcome you to our
  writing community where you can progress your work, share ideas with
  other writers, and focus on your writing away from distractions.\n\nF
 or more information visit https://bowesandbounds.org/events/life-writi
 ng-and-memoir-workshop-with-giovanna-iozzi
DTSTART;TZID=Europe/London:20210223T100000
DTEND;TZID=Europe/London:20210223T123000
CATEGORIES:"online writing course", "creative writing", memoir, "life 
 writing"
LOCATION:Collage Writing Room online
WEBSITE:http://collagewritingroom.com/spring-courses/
URL:http://collagewritingroom.com/spring-courses/
CONTACT:
ORGANIZER:Carmel Shortall for Collage Writing Room
ATTACH;FMTTYPE="image/jpeg":https://storage.ning.com/topology/rest/1.0
 /file/get/8266564464?profile=original
ATTENDEE;ROLE=REQ-PARTICIPANT;PARTSTAT=ACCEPTED;RSVP=TRUE;CN="Carmel S
 hortall":https://bowesandbounds.org/profile/CarmelShortall
END:VEVENT
END:VCALENDAR
