BEGIN:VCALENDAR
PRODID:NingEventWidget-v1
VERSION:2.0
METHOD:PUBLISH
BEGIN:VTIMEZONE
TZID:Europe/London
X-LIC-LOCATION:Europe/London
BEGIN:DAYLIGHT
TZOFFSETFROM:+0000
TZOFFSETTO:+0100
TZNAME:BST
DTSTART:19700329T010000
RRULE:FREQ=YEARLY;BYMONTH=3;BYDAY=-1SU
END:DAYLIGHT
BEGIN:STANDARD
TZOFFSETFROM:+0100
TZOFFSETTO:+0000
TZNAME:GMT
DTSTART:19701025T020000
RRULE:FREQ=YEARLY;BYMONTH=10;BYDAY=-1SU
END:STANDARD
END:VTIMEZONE
BEGIN:VEVENT
UID:6278630:Event:248572
DTSTAMP:20260423T151251Z
SUMMARY:Linda Moylan at Bowes Park Folk Club
DESCRIPTION:Soo good we invited her back!  Linda is a natural singer,
  songwriter and storyteller. Her music explores a wide array of themes
  from forgotten fateful stories and uncelebrated heroines of the past 
 to her own personal and family experiences.\n“One of the finest albu
 m projects I’ve ever been privileged to be involved with.” — Phi
 l Beer, album producer / Show Of Hands\nFree (collection taken)\n\n\nF
 or more information visit https://bowesandbounds.org/events/linda-moyl
 an-at-bowes-park-folk-club
DTSTART;TZID=Europe/London:20241114T194500
DTEND;TZID=Europe/London:20241114T223000
CATEGORIES:"live music", "folk music"
LOCATION:Mum's Bistro
WEBSITE:https://www.facebook.com/events/853195313389590
URL:https://www.facebook.com/events/853195313389590
CONTACT:
ORGANIZER;CN="Catharine Perry":https://bowesandbounds.org/profile/Cath
 arinePerry
ATTACH;FMTTYPE="image/jpeg":https://storage.ning.com/topology/rest/1.0
 /file/get/12996645487?profile=original
ATTENDEE;ROLE=REQ-PARTICIPANT;PARTSTAT=ACCEPTED;RSVP=TRUE;CN="Catharin
 e Perry":https://bowesandbounds.org/profile/CatharinePerry
END:VEVENT
END:VCALENDAR
