BEGIN:VCALENDAR
PRODID:NingEventWidget-v1
VERSION:2.0
METHOD:PUBLISH
BEGIN:VTIMEZONE
TZID:Europe/London
X-LIC-LOCATION:Europe/London
BEGIN:DAYLIGHT
TZOFFSETFROM:+0000
TZOFFSETTO:+0100
TZNAME:BST
DTSTART:19700329T010000
RRULE:FREQ=YEARLY;BYMONTH=3;BYDAY=-1SU
END:DAYLIGHT
BEGIN:STANDARD
TZOFFSETFROM:+0100
TZOFFSETTO:+0000
TZNAME:GMT
DTSTART:19701025T020000
RRULE:FREQ=YEARLY;BYMONTH=10;BYDAY=-1SU
END:STANDARD
END:VTIMEZONE
BEGIN:VEVENT
UID:6278630:Event:252063
DTSTAMP:20260424T193420Z
SUMMARY:Lior Solomons-Wise Quartet
DESCRIPTION:\nPianist and Dankworth prize winning composer Lior Solomo
 ns-Wise brings his quartet to Karamel for an evening of captivating or
 iginal music. Many of Lior’s compositions take inspiration from the 
 UK’s mountainous regions, weaving simple and beautiful melodies thro
 ugh enchanting harmonic explorations. A recent graduate from the Guild
 hall School of Music and Drama, performing highlights include EFG Jazz
  festival appearances, the 606 club, Pizza Express Dean Street and the
  Vortex Jazz Club.\nLine up: Lior Solomons-Wise - Piano; George Johnso
 n - Tenor Saxophone; Zaki Osahn - Double bass; Jonah Evans - Drums.\nK
 aramel - 4 Coburg Road, London N22 6UJ. The Karamel vegan kitchen will
  be serving food until 9.30pm. Email karamel8775@gmail.com to book a t
 able for groups of 3+.\nDoors open 7pm, music from 8pm.\n\nFor more in
 formation visit https://bowesandbounds.org/events/lior-solomons-wise-q
 uartet-1
DTSTART;TZID=Europe/London:20251023T190000
DTEND;TZID=Europe/London:20251023T220000
CATEGORIES:jazz, veganvenue, veganfood, livemusic
LOCATION:karamel, 4 Coburg Road, Wood Green, London N22 6UJ
WEBSITE:https://www.musicglue.com/karamel/events/2025-10-23-lior-solom
 ons-wise-quartet-karamel
URL:https://www.musicglue.com/karamel/events/2025-10-23-lior-solomons-
 wise-quartet-karamel
CONTACT:
ORGANIZER;CN="Collage Artspaces":https://bowesandbounds.org/profile/Co
 llage_Arts
ATTACH;FMTTYPE="image/jpeg":https://storage.ning.com/topology/rest/1.0
 /file/get/13746874055?profile=original
ATTENDEE;ROLE=REQ-PARTICIPANT;PARTSTAT=ACCEPTED;RSVP=TRUE;CN="Collage 
 Artspaces":https://bowesandbounds.org/profile/Collage_Arts
END:VEVENT
END:VCALENDAR
