BEGIN:VCALENDAR
PRODID:NingEventWidget-v1
VERSION:2.0
METHOD:PUBLISH
BEGIN:VTIMEZONE
TZID:Europe/London
X-LIC-LOCATION:Europe/London
BEGIN:DAYLIGHT
TZOFFSETFROM:+0000
TZOFFSETTO:+0100
TZNAME:BST
DTSTART:19700329T010000
RRULE:FREQ=YEARLY;BYMONTH=3;BYDAY=-1SU
END:DAYLIGHT
BEGIN:STANDARD
TZOFFSETFROM:+0100
TZOFFSETTO:+0000
TZNAME:GMT
DTSTART:19701025T020000
RRULE:FREQ=YEARLY;BYMONTH=10;BYDAY=-1SU
END:STANDARD
END:VTIMEZONE
BEGIN:VEVENT
UID:6278630:Event:237311
DTSTAMP:20260422T095003Z
SUMMARY:LIVE MUSIC AT FATISA
DESCRIPTION:Live Music at Fatisa continues this Friday, Oct 1st.\n\nGu
 i Tavares, wonderful Brazilian guitarist/vocalist , and Bossa Rio.\nFr
 ee entry, have a meal or just have a drink.\nBook early!\n\nFor more i
 nformation visit https://bowesandbounds.org/events/live-music-at-fatis
 a-1
DTSTART;TZID=Europe/London:20211001T203000
DTEND;TZID=Europe/London:20211001T223000
CATEGORIES:live, music
LOCATION:Fatisa Restaurant
WEBSITE:http://www.fatisa.co.uk
URL:http://www.fatisa.co.uk
CONTACT:0208 888 9008
ORGANIZER;CN=SA:https://bowesandbounds.org/profile/SA
ATTACH;FMTTYPE="image/jpeg":https://storage.ning.com/topology/rest/1.0
 /file/get/9612686456?profile=original
ATTENDEE;ROLE=REQ-PARTICIPANT;PARTSTAT=ACCEPTED;RSVP=TRUE;CN=SA:https:
 //bowesandbounds.org/profile/SA
END:VEVENT
END:VCALENDAR
