BEGIN:VCALENDAR
PRODID:NingEventWidget-v1
VERSION:2.0
METHOD:PUBLISH
BEGIN:VTIMEZONE
TZID:Europe/London
X-LIC-LOCATION:Europe/London
BEGIN:DAYLIGHT
TZOFFSETFROM:+0000
TZOFFSETTO:+0100
TZNAME:BST
DTSTART:19700329T010000
RRULE:FREQ=YEARLY;BYMONTH=3;BYDAY=-1SU
END:DAYLIGHT
BEGIN:STANDARD
TZOFFSETFROM:+0100
TZOFFSETTO:+0000
TZNAME:GMT
DTSTART:19701025T020000
RRULE:FREQ=YEARLY;BYMONTH=10;BYDAY=-1SU
END:STANDARD
END:VTIMEZONE
BEGIN:VEVENT
UID:6278630:Event:238454
DTSTAMP:20260422T072836Z
SUMMARY:LIve Music at Fatisa
DESCRIPTION:The Perhaps Trio will be at Fatisa on November 19th.\nGuit
 ar, Cell/vocals, Sax\n\nAnother great evening of music - come and supp
 ort the venue and the musicians!\n\nFor more information visit https:/
 /bowesandbounds.org/events/live-music-at-fatisa-3
DTSTART;TZID=Europe/London:20211119T203000
DTEND;TZID=Europe/London:20211119T223000
CATEGORIES:live, music
LOCATION:Fatisa Restaurant
WEBSITE:
URL:
CONTACT:0208 888 9008
ORGANIZER;CN=SA:https://bowesandbounds.org/profile/SA
ATTACH;FMTTYPE="image/jpeg":
ATTENDEE;ROLE=REQ-PARTICIPANT;PARTSTAT=ACCEPTED;RSVP=TRUE;CN=SA:https:
 //bowesandbounds.org/profile/SA
END:VEVENT
END:VCALENDAR
