BEGIN:VCALENDAR
PRODID:NingEventWidget-v1
VERSION:2.0
METHOD:PUBLISH
BEGIN:VTIMEZONE
TZID:Europe/London
X-LIC-LOCATION:Europe/London
BEGIN:DAYLIGHT
TZOFFSETFROM:+0000
TZOFFSETTO:+0100
TZNAME:BST
DTSTART:19700329T010000
RRULE:FREQ=YEARLY;BYMONTH=3;BYDAY=-1SU
END:DAYLIGHT
BEGIN:STANDARD
TZOFFSETFROM:+0100
TZOFFSETTO:+0000
TZNAME:GMT
DTSTART:19701025T020000
RRULE:FREQ=YEARLY;BYMONTH=10;BYDAY=-1SU
END:STANDARD
END:VTIMEZONE
BEGIN:VEVENT
UID:6278630:Event:237048
DTSTAMP:20260422T095220Z
SUMMARY:Live Music at Fatisa
DESCRIPTION:Music nights at Fatisa Restaurant continue, with Patrick N
 aylor and Gypsy Dreamers.\nCome and hear this amazing trio!\nBooking a
 dvised.\n\nFor more information visit https://bowesandbounds.org/event
 s/live-music-at-fatisa
DTSTART;TZID=Europe/London:20210924T203000
DTEND;TZID=Europe/London:20210924T223000
CATEGORIES:live, music
LOCATION:Fatisa Restaurant
WEBSITE:http://www.fatisa.co.uk
URL:http://www.fatisa.co.uk
CONTACT:0208 888 9008
ORGANIZER;CN=SA:https://bowesandbounds.org/profile/SA
ATTACH;FMTTYPE="image/jpeg":
ATTENDEE;ROLE=REQ-PARTICIPANT;PARTSTAT=ACCEPTED;RSVP=TRUE;CN=SA:https:
 //bowesandbounds.org/profile/SA
END:VEVENT
END:VCALENDAR
