BEGIN:VCALENDAR
PRODID:NingEventWidget-v1
VERSION:2.0
METHOD:PUBLISH
BEGIN:VTIMEZONE
TZID:Europe/London
X-LIC-LOCATION:Europe/London
BEGIN:DAYLIGHT
TZOFFSETFROM:+0000
TZOFFSETTO:+0100
TZNAME:BST
DTSTART:19700329T010000
RRULE:FREQ=YEARLY;BYMONTH=3;BYDAY=-1SU
END:DAYLIGHT
BEGIN:STANDARD
TZOFFSETFROM:+0100
TZOFFSETTO:+0000
TZNAME:GMT
DTSTART:19701025T020000
RRULE:FREQ=YEARLY;BYMONTH=10;BYDAY=-1SU
END:STANDARD
END:VTIMEZONE
BEGIN:VEVENT
UID:6278630:Event:40816
DTSTAMP:20260425T035825Z
SUMMARY:Live Music - Breathe @ The Step
DESCRIPTION:Breathe are back on Friday 15th June!\nWe’ve booked our 
 next live music date and we’re so excited to welcome musical duo, An
 dre and George back, otherwise known at Breathe. They’ll be playing 
 their own mellow and uplifting songs and providing the perfect musical
  antidote to the hustle and bustle of London life.\nThey have played a
 nd sung with Faze Action, Los Charly’s, Spiritual South and Defected
  Records as well as performing at The Big Chill, Glastonbury and the J
 azz Café….next stop 101 Myddleton Road!\nWe’ve just got a feeling
  that this could be the start of something beautiful… we were seriou
 sly impressed by their music which washes over you like gentle warm ra
 in on a summer evening as well as playing occasional covers in their u
 nique style.\nEntry is free and Breathe will perform two half hour set
 s, the first kicking off at 8.30pm.\nCheck out their YouTube channel w
 ith one song recorded live at The Step! http://www.youtube.com/breathe
 musictv\n\nFor more information visit https://bowesandbounds.org/event
 s/live-music-breathe-the-step
DTSTART;TZID=Europe/London:20120615T193000
DTEND;TZID=Europe/London:20120615T230000
CATEGORIES:music, gig, acoustic
LOCATION:The Step
WEBSITE:http://www.thestep.co.uk/
URL:http://www.thestep.co.uk/
CONTACT:020 3302 2412
ORGANIZER;CN="Nell Riches":https://bowesandbounds.org/profile/NellRich
 es
ATTACH;FMTTYPE="image/jpeg":http://storage.ning.com/topology/rest/1.0/
 file/get/2287234388?profile=original
ATTENDEE;ROLE=REQ-PARTICIPANT;PARTSTAT=ACCEPTED;RSVP=TRUE;CN="Nell Ric
 hes":https://bowesandbounds.org/profile/NellRiches
END:VEVENT
END:VCALENDAR
