BEGIN:VCALENDAR
PRODID:NingEventWidget-v1
VERSION:2.0
METHOD:PUBLISH
BEGIN:VTIMEZONE
TZID:Europe/London
X-LIC-LOCATION:Europe/London
BEGIN:DAYLIGHT
TZOFFSETFROM:+0000
TZOFFSETTO:+0100
TZNAME:BST
DTSTART:19700329T010000
RRULE:FREQ=YEARLY;BYMONTH=3;BYDAY=-1SU
END:DAYLIGHT
BEGIN:STANDARD
TZOFFSETFROM:+0100
TZOFFSETTO:+0000
TZNAME:GMT
DTSTART:19701025T020000
RRULE:FREQ=YEARLY;BYMONTH=10;BYDAY=-1SU
END:STANDARD
END:VTIMEZONE
BEGIN:VEVENT
UID:6278630:Event:136968
DTSTAMP:20260423T215441Z
SUMMARY:LIVE MUSIC: Odoya
DESCRIPTION:Odoyá are Dudi Shaul (guitar), Ines Loubet (vocals) and J
 oseph Costi (piano). After supporting the wonderful Gilberto Gil at th
 e Shepherds Bush Empire last weekend they will be heading to The Step 
 to play more of their fantastic Afro-Samba music.\nThey will be perfor
 ming a show to explore the rich Afro-Brazilian heritage of songs and s
 ounds in homage to the legendary Brazilian guitarist and composer Bade
 n Powell, as well as compositions by Dudi Shaul. \n\nFor more informa
 tion visit https://bowesandbounds.org/events/live-music-odoya
DTSTART;TZID=Europe/London:20190713T200000
DTEND;TZID=Europe/London:20190713T220000
CATEGORIES:gig
LOCATION:The Step, 101 Myddleton Road, N22 8NE
WEBSITE:http://www.thestep.co.uk
URL:http://www.thestep.co.uk
CONTACT:02033022412
ORGANIZER;CN="Nell Riches":https://bowesandbounds.org/profile/NellRich
 es
ATTACH;FMTTYPE="image/jpeg":https://storage.ning.com/topology/rest/1.0
 /file/get/3266471203?profile=original
ATTENDEE;ROLE=REQ-PARTICIPANT;PARTSTAT=ACCEPTED;RSVP=TRUE;CN="Nell Ric
 hes":https://bowesandbounds.org/profile/NellRiches
END:VEVENT
END:VCALENDAR
