BEGIN:VCALENDAR
PRODID:NingEventWidget-v1
VERSION:2.0
METHOD:PUBLISH
BEGIN:VTIMEZONE
TZID:Europe/London
X-LIC-LOCATION:Europe/London
BEGIN:DAYLIGHT
TZOFFSETFROM:+0000
TZOFFSETTO:+0100
TZNAME:BST
DTSTART:19700329T010000
RRULE:FREQ=YEARLY;BYMONTH=3;BYDAY=-1SU
END:DAYLIGHT
BEGIN:STANDARD
TZOFFSETFROM:+0100
TZOFFSETTO:+0000
TZNAME:GMT
DTSTART:19701025T020000
RRULE:FREQ=YEARLY;BYMONTH=10;BYDAY=-1SU
END:STANDARD
END:VTIMEZONE
BEGIN:VEVENT
UID:6278630:Event:116958
DTSTAMP:20260424T144030Z
SUMMARY:Liz Sutherland Exhibition
DESCRIPTION:Exhibition running 23rd September to 28th October\nÂ \nPri
 vate View: 13th October from 6pm\nÂ \nLiz Sutherland is a painter who 
 makes vivacious studies of the figure, cityscapes and landscape. Worki
 ng in oils on canvas and mixed media on paper she reduces a scene down
  to its essence and then records this with a bold use of colour and fo
 rm.\nÂ \nLiz Sutherland completed a B.A. in History of Art before goin
 g on to do a post-graduate painting course at Central St Martins.\n\nI
 n the last three years Liz has been exploring the theme of Alexandra P
 alace and Park and has built up an impressive body of work which inclu
 des the iconic building of Ally Pally and its beautiful surrounding pa
 rkland spaces.\nÂ \nShe uses charcoal and iPad sketches made in situ t
 o inspire her oil paintings, which she then develops further in her st
 udio. The fluid and expressive nature of her iPad sketches has influen
 ced her recent work, as can be seen In the Â painting of \"Alexandra Â
  Palace from below\" Â where she uses loose sweeping brush strokes and
  bold colourful shapes to describe the trees and shapes of the buildin
 gs. Â  (See image for the card)\nÂ \nHer solo exhibitions include Â 20
 06Â Chocolate Factory , Foyer , Wood Green, London. Â 2002 Â The Highg
 ate Literary and Scientific Institution. Â 2000Â Delibar, The City of 
 London. Â 1995 and 1997 The Groucho Club. Â 1996Â Â the Radcliffe Infi
 rmary, Oxford. Â \nFor the last twelve years she has been part of the 
 Chocolate Factory Â Open Studios in Wood Green where she has a studio 
 and will be moving to the new Chocolate Factory 3 building in October.
 \n\n\nAll paintings and drawings are for sale and the iPad drawings ca
 n be ordered as Giclee prints to fit your required size.\nÂ \nlizsuthe
 rland@blueyonder.co.uk\nwww.lizsutherland.co.uk\nmobile 07810 442 322\
 n\n\nFor more information visit https://bowesandbounds.org/events/liz-
 sutherland-exhibition
DTSTART;TZID=Europe/London:20160923T180000
DTEND;TZID=Europe/London:20161028T170000
CATEGORIES:"'exhibition'", "'karamel", "exhibition'", "'art'", "'liz",
  "sutherland'", "'art"
LOCATION:Karamel
WEBSITE:http://www.karamel.london
URL:http://www.karamel.london
CONTACT:0208 829 8989
ORGANIZER:Karamel
ATTACH;FMTTYPE="image/jpeg":http://storage.ning.com/topology/rest/1.0/
 file/get/2287313945?profile=original
ATTENDEE;ROLE=REQ-PARTICIPANT;PARTSTAT=ACCEPTED;RSVP=TRUE;CN="Events a
 t Karamel":https://bowesandbounds.org/profile/PhilSherman
END:VEVENT
END:VCALENDAR
