BEGIN:VCALENDAR
PRODID:NingEventWidget-v1
VERSION:2.0
METHOD:PUBLISH
BEGIN:VTIMEZONE
TZID:Europe/London
X-LIC-LOCATION:Europe/London
BEGIN:DAYLIGHT
TZOFFSETFROM:+0000
TZOFFSETTO:+0100
TZNAME:BST
DTSTART:19700329T010000
RRULE:FREQ=YEARLY;BYMONTH=3;BYDAY=-1SU
END:DAYLIGHT
BEGIN:STANDARD
TZOFFSETFROM:+0100
TZOFFSETTO:+0000
TZNAME:GMT
DTSTART:19701025T020000
RRULE:FREQ=YEARLY;BYMONTH=10;BYDAY=-1SU
END:STANDARD
END:VTIMEZONE
BEGIN:VEVENT
UID:6278630:Event:136429
DTSTAMP:20260424T140755Z
SUMMARY:Local Affordable Art Fair
DESCRIPTION:Showcasing the best in creative talent our area has to off
 er. Local artists will be selling a range of pieces, from canvas to pr
 ints and cards, of all prices. Variety of mediums.  Confirmed artist s
 ellers:  Diana Ferguson | Natasha Barton | David Lubich | Suzanne Gree
 n | Gabriela Schutz | Louise Richards | VictoriaDraws | Jennifer Blake
  | Roland Corbin | Jeremy Bevan | Fran Wood Design  £1 entry, kids go
  free.\n\nFor more information visit https://bowesandbounds.org/events
 /local-affordable-art-fair
DTSTART;TZID=Europe/London:20190518T120000
DTEND;TZID=Europe/London:20190518T160000
CATEGORIES:sale
LOCATION:Shaftesbury Hall
WEBSITE:http://www.myddletonroadmarket.co.uk
URL:http://www.myddletonroadmarket.co.uk
CONTACT:
ORGANIZER;CN="Lucy Whitehead":https://bowesandbounds.org/profile/LucyW
 hitehead
ATTACH;FMTTYPE="image/jpeg":https://storage.ning.com/topology/rest/1.0
 /file/get/2532537296?profile=original
ATTENDEE;ROLE=REQ-PARTICIPANT;PARTSTAT=ACCEPTED;RSVP=TRUE;CN="Lucy Whi
 tehead":https://bowesandbounds.org/profile/LucyWhitehead
END:VEVENT
END:VCALENDAR
