BEGIN:VCALENDAR
PRODID:NingEventWidget-v1
VERSION:2.0
METHOD:PUBLISH
BEGIN:VTIMEZONE
TZID:Europe/London
X-LIC-LOCATION:Europe/London
BEGIN:DAYLIGHT
TZOFFSETFROM:+0000
TZOFFSETTO:+0100
TZNAME:BST
DTSTART:19700329T010000
RRULE:FREQ=YEARLY;BYMONTH=3;BYDAY=-1SU
END:DAYLIGHT
BEGIN:STANDARD
TZOFFSETFROM:+0100
TZOFFSETTO:+0000
TZNAME:GMT
DTSTART:19701025T020000
RRULE:FREQ=YEARLY;BYMONTH=10;BYDAY=-1SU
END:STANDARD
END:VTIMEZONE
BEGIN:VEVENT
UID:6278630:Event:240313
DTSTAMP:20260421T182210Z
SUMMARY:Local Affordable Art Sale
DESCRIPTION:Local artists selling a range of work from ceramics to can
 vas’, prints and sketches. Pick up a unique piece and support your l
 ocal creatives.\n\n\nAngela Filby\n\n\nLoo Richards Artworks\n\n\nNB P
 rints\n\n\nJenny Blake Artist\n\n\nSilvia McMenamin & Liam McMenamin\n
 \n\nKandy Print Shop\n\n\nSue Loder\n\n\nSusan Tye\n\n\nJessie Maeve S
 tudio\nand Melissa O'Brien\n\n\n\n\n\nFor more information visit https
 ://bowesandbounds.org/events/local-affordable-art-sale-1
DTSTART;TZID=Europe/London:20220514T120000
DTEND;TZID=Europe/London:20220514T163000
CATEGORIES:shopping
LOCATION:Shaftesbury Hall
WEBSITE:
URL:
CONTACT:
ORGANIZER;CN="Lucy Whitehead":https://bowesandbounds.org/profile/LucyW
 hitehead
ATTACH;FMTTYPE="image/jpeg":https://storage.ning.com/topology/rest/1.0
 /file/get/10482329258?profile=original
ATTENDEE;ROLE=REQ-PARTICIPANT;PARTSTAT=ACCEPTED;RSVP=TRUE;CN="Lucy Whi
 tehead":https://bowesandbounds.org/profile/LucyWhitehead
END:VEVENT
END:VCALENDAR
