BEGIN:VCALENDAR
PRODID:NingEventWidget-v1
VERSION:2.0
METHOD:PUBLISH
BEGIN:VTIMEZONE
TZID:Europe/London
X-LIC-LOCATION:Europe/London
BEGIN:DAYLIGHT
TZOFFSETFROM:+0000
TZOFFSETTO:+0100
TZNAME:BST
DTSTART:19700329T010000
RRULE:FREQ=YEARLY;BYMONTH=3;BYDAY=-1SU
END:DAYLIGHT
BEGIN:STANDARD
TZOFFSETFROM:+0100
TZOFFSETTO:+0000
TZNAME:GMT
DTSTART:19701025T020000
RRULE:FREQ=YEARLY;BYMONTH=10;BYDAY=-1SU
END:STANDARD
END:VTIMEZONE
BEGIN:VEVENT
UID:6278630:Event:193388
DTSTAMP:20260422T174746Z
SUMMARY:Local Affordable Art Sale
DESCRIPTION:Local artists selling a range of unique work from cards to
  prints and canvasses. Perfect festive gifts. \nJenny Blake | Andy Ha
 ll | Jeremy Bevan | Natasha Barton | Louise Breckon Richards | Victori
 a Tojeiro |  Light Bulb Studio | Fran Wood Design.\nEntry £1\nMasks 
 required and entry will be controlled\n\nFor more information visit ht
 tps://bowesandbounds.org/events/local-affordable-art-sale
DTSTART;TZID=Europe/London:20201213T120000
DTEND;TZID=Europe/London:20201213T160000
CATEGORIES:sale
LOCATION:Shaftesbury Hall N11 2QN
WEBSITE:http://www.myddletonroadmarket.co.uk
URL:http://www.myddletonroadmarket.co.uk
CONTACT:
ORGANIZER;CN="Lucy Whitehead":https://bowesandbounds.org/profile/LucyW
 hitehead
ATTACH;FMTTYPE="image/jpeg":
ATTENDEE;ROLE=REQ-PARTICIPANT;PARTSTAT=ACCEPTED;RSVP=TRUE;CN="Lucy Whi
 tehead":https://bowesandbounds.org/profile/LucyWhitehead
END:VEVENT
END:VCALENDAR
