BEGIN:VCALENDAR
PRODID:NingEventWidget-v1
VERSION:2.0
METHOD:PUBLISH
BEGIN:VTIMEZONE
TZID:Europe/London
X-LIC-LOCATION:Europe/London
BEGIN:DAYLIGHT
TZOFFSETFROM:+0000
TZOFFSETTO:+0100
TZNAME:BST
DTSTART:19700329T010000
RRULE:FREQ=YEARLY;BYMONTH=3;BYDAY=-1SU
END:DAYLIGHT
BEGIN:STANDARD
TZOFFSETFROM:+0100
TZOFFSETTO:+0000
TZNAME:GMT
DTSTART:19701025T020000
RRULE:FREQ=YEARLY;BYMONTH=10;BYDAY=-1SU
END:STANDARD
END:VTIMEZONE
BEGIN:VEVENT
UID:6278630:Event:65530
DTSTAMP:20260425T151936Z
SUMMARY:Local History Talk: A view of the New River
DESCRIPTION:Rachael MacDonald presents a talk on\n \nA view of the Ne
 w River\nAn illustrated lecture marking the 400th anniversary of the b
 uilding of the New River to supply water to London.\nThis talk is orga
 nised by the North London Branch of the Historical Association and wi
 ll be followed by refreshments and the Branch AGM.\n More information
 \n\nFor more information visit https://bowesandbounds.org/events/local
 -history-talk-a-view-of-the-new-river
DTSTART;TZID=Europe/London:20130910T204500
DTEND;TZID=Europe/London:20130910T214500
CATEGORIES:"local history talk", nr400
LOCATION:\"Jubilee Hall\"
WEBSITE:http://www.bing.com/maps/?lvl=15&where1=EN20AJ,%20UK&FORM=MMRE
 DIR
URL:http://www.bing.com/maps/?lvl=15&where1=EN20AJ,%20UK&FORM=MMREDIR
CONTACT:
ORGANIZER:
ATTACH;FMTTYPE="image/jpeg":http://storage.ning.com/topology/rest/1.0/
 file/get/2287252077?profile=original
ATTENDEE;ROLE=REQ-PARTICIPANT;PARTSTAT=ACCEPTED;RSVP=TRUE;CN="Richard 
 McKeever":https://bowesandbounds.org/profile/3hwxkqhdde8gc
END:VEVENT
END:VCALENDAR
