BEGIN:VCALENDAR
PRODID:NingEventWidget-v1
VERSION:2.0
METHOD:PUBLISH
BEGIN:VTIMEZONE
TZID:Europe/London
X-LIC-LOCATION:Europe/London
BEGIN:DAYLIGHT
TZOFFSETFROM:+0000
TZOFFSETTO:+0100
TZNAME:BST
DTSTART:19700329T010000
RRULE:FREQ=YEARLY;BYMONTH=3;BYDAY=-1SU
END:DAYLIGHT
BEGIN:STANDARD
TZOFFSETFROM:+0100
TZOFFSETTO:+0000
TZNAME:GMT
DTSTART:19701025T020000
RRULE:FREQ=YEARLY;BYMONTH=10;BYDAY=-1SU
END:STANDARD
END:VTIMEZONE
BEGIN:VEVENT
UID:6278630:Event:67518
DTSTAMP:20260426T031447Z
SUMMARY:Local History Walk: Chase Side
DESCRIPTION:Joe StudmanÂ - City Guide and Associate of the Institute o
 f Tourist Guiding -will be leading a series of local History walking t
 ours around Enfield this autumn.\nSunday 3rd November CHASE SIDE Meet 
 Enfield Chase Station 2pm\nThese are walks to supplement theÂ October 
 local history course but are also open to the general public  All walk
 s Â£5.00 per person. Â£3.00 Concessions  Each walk lasts about 90 minu
 tes No need to book the walks. Just turn up.  Any queries please conta
 ct: 07875537295Â Â Â Â Â Â Â Â Â Â Â Â Â Â Â Â Â Â Â Â Â Â Â Â Â Â Â Â
  Â Â Â Â Â Â Â Â Â Â Â Â Â Â Â Â Â Â Â Â Â Â Â Â Â Â Â Â Â Â Â Â Â Â Â
  Â Â Â Â  joe@jaywalks.co.uk\n\nFor more information visit https://bow
 esandbounds.org/events/local-history-walk-chase-side
DTSTART;TZID=Europe/London:20131103T140000
DTEND;TZID=Europe/London:20131103T153000
CATEGORIES:walk, "local history", "#hw"
LOCATION:Chase Side
WEBSITE:http://jaywalks.co.uk/
URL:http://jaywalks.co.uk/
CONTACT:
ORGANIZER;CN=Administrator:https://bowesandbounds.org/profile/Administ
 rator
ATTACH;FMTTYPE="image/jpeg":http://storage.ning.com/topology/rest/1.0/
 file/get/2287255708?profile=original
ATTENDEE;ROLE=REQ-PARTICIPANT;PARTSTAT=ACCEPTED;RSVP=TRUE;CN=Administr
 ator:https://bowesandbounds.org/profile/Administrator
END:VEVENT
END:VCALENDAR
