BEGIN:VCALENDAR
PRODID:NingEventWidget-v1
VERSION:2.0
METHOD:PUBLISH
BEGIN:VTIMEZONE
TZID:Europe/London
X-LIC-LOCATION:Europe/London
BEGIN:DAYLIGHT
TZOFFSETFROM:+0000
TZOFFSETTO:+0100
TZNAME:BST
DTSTART:19700329T010000
RRULE:FREQ=YEARLY;BYMONTH=3;BYDAY=-1SU
END:DAYLIGHT
BEGIN:STANDARD
TZOFFSETFROM:+0100
TZOFFSETTO:+0000
TZNAME:GMT
DTSTART:19701025T020000
RRULE:FREQ=YEARLY;BYMONTH=10;BYDAY=-1SU
END:STANDARD
END:VTIMEZONE
BEGIN:VEVENT
UID:6278630:Event:84145
DTSTAMP:20260419T132947Z
SUMMARY:Local History Walk: Upper Edmonton and Pymmes Brook
DESCRIPTION:Joe Studman - City Guide and Associate of the Institute o
 f Tourist Guiding -will be leading a series of local History walking t
 ours around Enfield this autumn.\nSunday 5th October  UPPER EDMONTON &
  PYMMES BROOK Meet Silver Street Station (Walk will start after arriva
 l of 1427 train from Enfield Town -scheduled to arrive at Silver Stree
 t at 1435)  This new walk investigates Pymmes House, Angel Place, the 
 Edmonton Union Workhouse, Weir Hall and the history of Millfield House
  while enjoying the tranquillity of the Pymmes Brook trail..\n£5.00 p
 er person. £3.00 Concessions  Walk lasts about 90 minutes No need to 
 book the walks. Just turn up.  Any queries please contact: 07875537295
                                    
                                  joe@j
 aywalks.co.uk\n\nFor more information visit https://bowesandbounds.org
 /events/local-history-walk-upper-edmonton-and-pymmes-brook
DTSTART;TZID=Europe/London:20141005T140000
DTEND;TZID=Europe/London:20141005T153000
CATEGORIES:walk, "local history", "#hw14"
LOCATION:Edmonton
WEBSITE:http://jaywalks.co.uk/
URL:http://jaywalks.co.uk/
CONTACT:
ORGANIZER;CN=Administrator:https://bowesandbounds.org/profile/Administ
 rator
ATTACH;FMTTYPE="image/jpeg":http://storage.ning.com/topology/rest/1.0/
 file/get/2287255708?profile=original
ATTENDEE;ROLE=REQ-PARTICIPANT;PARTSTAT=ACCEPTED;RSVP=TRUE;CN=Administr
 ator:https://bowesandbounds.org/profile/Administrator
END:VEVENT
END:VCALENDAR
