BEGIN:VCALENDAR
PRODID:NingEventWidget-v1
VERSION:2.0
METHOD:PUBLISH
BEGIN:VTIMEZONE
TZID:Europe/London
X-LIC-LOCATION:Europe/London
BEGIN:DAYLIGHT
TZOFFSETFROM:+0000
TZOFFSETTO:+0100
TZNAME:BST
DTSTART:19700329T010000
RRULE:FREQ=YEARLY;BYMONTH=3;BYDAY=-1SU
END:DAYLIGHT
BEGIN:STANDARD
TZOFFSETFROM:+0100
TZOFFSETTO:+0000
TZNAME:GMT
DTSTART:19701025T020000
RRULE:FREQ=YEARLY;BYMONTH=10;BYDAY=-1SU
END:STANDARD
END:VTIMEZONE
BEGIN:VEVENT
UID:6278630:Event:138338
DTSTAMP:20260422T100315Z
SUMMARY:London Metropolitan Brass in The Grove
DESCRIPTION:The London Metropolitan Brass Community Band will playing 
 some great tunes to amuse the crowd. Last year they treated to a great
  interpretation of \"The Stripper\". Wondering what they will have in 
 store for us this year?\n \nCome and lie on the grass and/or grab an 
 ice cream for our last band performance of the year.\n\nFor more infor
 mation visit https://bowesandbounds.org/events/london-metropolitan-bra
 ss-in-the-grove
DTSTART;TZID=Europe/London:20190901T140000
DTEND;TZID=Europe/London:20190901T160000
CATEGORIES:band, music
LOCATION:Alexandra Park
WEBSITE:http://www.friendsofalexandrapark.org
URL:http://www.friendsofalexandrapark.org
CONTACT:
ORGANIZER;CN="Stephen Middleton":https://bowesandbounds.org/profile/St
 ephenMiddleton
ATTACH;FMTTYPE="image/jpeg":https://storage.ning.com/topology/rest/1.0
 /file/get/3476212698?profile=original
ATTENDEE;ROLE=REQ-PARTICIPANT;PARTSTAT=ACCEPTED;RSVP=TRUE;CN="Stephen 
 Middleton":https://bowesandbounds.org/profile/StephenMiddleton
END:VEVENT
END:VCALENDAR
