BEGIN:VCALENDAR
PRODID:NingEventWidget-v1
VERSION:2.0
METHOD:PUBLISH
BEGIN:VTIMEZONE
TZID:Europe/London
X-LIC-LOCATION:Europe/London
BEGIN:DAYLIGHT
TZOFFSETFROM:+0000
TZOFFSETTO:+0100
TZNAME:BST
DTSTART:19700329T010000
RRULE:FREQ=YEARLY;BYMONTH=3;BYDAY=-1SU
END:DAYLIGHT
BEGIN:STANDARD
TZOFFSETFROM:+0100
TZOFFSETTO:+0000
TZNAME:GMT
DTSTART:19701025T020000
RRULE:FREQ=YEARLY;BYMONTH=10;BYDAY=-1SU
END:STANDARD
END:VTIMEZONE
BEGIN:VEVENT
UID:6278630:Event:136778
DTSTAMP:20260423T224703Z
SUMMARY:London Metropolitan Brass
DESCRIPTION:They are back! We are very happy to welcome back the Senio
 r Band of London Metropolitan Brass to the Park to entertain us with
  their eclectic mix of music.\n \nPrevious years they have played \"B
 aggy Trousers\", \"The Stripper\" and \"Yesterday\".\n \nCome and sit
  on the grass by the cafe and maybe enjoy an ice cream.\n \n*Weather 
 permitting of course.\n \nhttps://www.londonmetropolitanbrass.com/\n\
 nFor more information visit https://bowesandbounds.org/events/london-m
 etropolitan-brass
DTSTART;TZID=Europe/London:20190630T140000
DTEND;TZID=Europe/London:20190630T160000
CATEGORIES:band, music, "friends of parks"
LOCATION:Alexandra Park
WEBSITE:http://www.friendsofalexandrapark.org
URL:http://www.friendsofalexandrapark.org
CONTACT:
ORGANIZER;CN="Stephen Middleton":https://bowesandbounds.org/profile/St
 ephenMiddleton
ATTACH;FMTTYPE="image/jpeg":https://storage.ning.com/topology/rest/1.0
 /file/get/3117963578?profile=original
ATTENDEE;ROLE=REQ-PARTICIPANT;PARTSTAT=ACCEPTED;RSVP=TRUE;CN="Stephen 
 Middleton":https://bowesandbounds.org/profile/StephenMiddleton
END:VEVENT
END:VCALENDAR
