BEGIN:VCALENDAR
PRODID:NingEventWidget-v1
VERSION:2.0
METHOD:PUBLISH
BEGIN:VTIMEZONE
TZID:Europe/London
X-LIC-LOCATION:Europe/London
BEGIN:DAYLIGHT
TZOFFSETFROM:+0000
TZOFFSETTO:+0100
TZNAME:BST
DTSTART:19700329T010000
RRULE:FREQ=YEARLY;BYMONTH=3;BYDAY=-1SU
END:DAYLIGHT
BEGIN:STANDARD
TZOFFSETFROM:+0100
TZOFFSETTO:+0000
TZNAME:GMT
DTSTART:19701025T020000
RRULE:FREQ=YEARLY;BYMONTH=10;BYDAY=-1SU
END:STANDARD
END:VTIMEZONE
BEGIN:VEVENT
UID:6278630:Event:138927
DTSTAMP:20260423T112547Z
SUMMARY:London National Park City Talk
DESCRIPTION:In July, London was declared the world's first National Pa
 rk City. Our speaker Steve Pocock will explain what that means for us,
  our Park and our City. London is almost 50% green or blue from above
 , how can we help to keep and improve the green of our city? Joined up
  thinking between different ecologically minded groups together with v
 olunteers, planners and government, for a start. To learn more, come t
 o the talk.Join us for refreshments from 7:30pm with the talk starting
  at 8pm prompt. Space is limited, so please email allyparkn10@gmail.
 com to book places and we will reply, letting you know the venue.\n\
 nFor more information visit https://bowesandbounds.org/events/london-n
 ational-park-city-talk
DTSTART;TZID=Europe/London:20191119T193000
DTEND;TZID=Europe/London:20191119T210000
CATEGORIES:talk
LOCATION:Alexandra Park
WEBSITE:http://www.friendsofalexandrapark.org
URL:http://www.friendsofalexandrapark.org
CONTACT:
ORGANIZER;CN="Stephen Middleton":https://bowesandbounds.org/profile/St
 ephenMiddleton
ATTACH;FMTTYPE="image/jpeg":
ATTENDEE;ROLE=REQ-PARTICIPANT;PARTSTAT=ACCEPTED;RSVP=TRUE;CN="Stephen 
 Middleton":https://bowesandbounds.org/profile/StephenMiddleton
END:VEVENT
END:VCALENDAR
